BEGIN:VCALENDAR
VERSION:2.0
PRODID:-//wp-events-plugin.com//7.2.3.1//EN
TZID:America/Los_Angeles
X-WR-TIMEZONE:America/Los_Angeles
BEGIN:VEVENT
UID:3905@parentingoc.guidoclients.com
DTSTART;TZID=America/Los_Angeles:20250405T100000
DTEND;TZID=America/Los_Angeles:20250518T170000
DTSTAMP:20250419T033556Z
URL:https://parentingoc.guidoclients.com/events/young-art-2025-nurture-and
 -nature-exhibition/
SUMMARY:“Young Art 2025: Nurture and Nature” Exhibition
DESCRIPTION:Through May 18\, the San Diego Museum of Art is displaying near
 ly 200 works created by over 265 artists who are K-12 students in the San 
 Diego/Tijuana region. This is the 48th edition of this exhibit\, but the f
 irst to include the Youth Exhibition from the Museum of Photographic Arts 
 since the two museums’ merger. SDMA is open 10 am-5 pm (Mondays-Tuesdays
 \, Thursdays-Saturdays) and 12 pm-5 pm (Sundays)\; it’s closed on Wednes
 days.\n\n https://www.sdmart.org/young-art/\n\n&nbsp\;
CATEGORIES:Amusement Parks,Arts &amp; Crafts
LOCATION:San Diego Museum of Art\, 1450 El Prado \, San Diego\, United Stat
 es
X-APPLE-STRUCTURED-LOCATION;VALUE=URI;X-ADDRESS=1450 El Prado \, San Diego\
 , United States;X-APPLE-RADIUS=100;X-TITLE=San Diego Museum of Art:geo:0,0
END:VEVENT
BEGIN:VTIMEZONE
TZID:America/Los_Angeles
X-LIC-LOCATION:America/Los_Angeles
BEGIN:DAYLIGHT
DTSTART:20250309T030000
TZOFFSETFROM:-0800
TZOFFSETTO:-0700
TZNAME:PDT
END:DAYLIGHT
END:VTIMEZONE
END:VCALENDAR