BEGIN:VCALENDAR
VERSION:2.0
PRODID:-//wp-events-plugin.com//7.2.3.1//EN
TZID:America/Los_Angeles
X-WR-TIMEZONE:America/Los_Angeles
BEGIN:VEVENT
UID:2433@parentingoc.guidoclients.com
DTSTART;TZID=America/Los_Angeles:20240601T080000
DTEND;TZID=America/Los_Angeles:20240601T103000
DTSTAMP:20240522T194257Z
URL:https://parentingoc.guidoclients.com/events/yorba-linda-family-fun/
SUMMARY:Yorba Linda Family Fun
DESCRIPTION:Youngsters become young entrepreneurs on June 1 at the Kids' Co
 mmunity Swap Meet\, taking place at the Yorba Linda Community Center (8 am
 -10:30 am). Over 60 children's booth vendors will be selling gently used t
 oys\, books\, furniture\, video games\, sports equipment\, clothing\, and 
 more. Yorba Linda’s Cultural Arts Center also hosts a Family Art Experie
 nce on June 8\, with four time slots between 9 am-1:30 pm. Sign up at: htt
 ps://anc.apm.activecommunities.com/ylreconline/activity/search?onlineSiteI
 d=0&amp\;activity_select_param=2&amp\;activity_category_ids=20&amp\;viewMo
 de=list\nhttps://www.yorbalindaca.gov/404/Upcoming-Family-Fun-Special-Even
 ts
CATEGORIES:Charity
LOCATION:Yorba Linda Community Center\, 4501 Casa Loma Ave\, Yorba Linda\, 
 United States
X-APPLE-STRUCTURED-LOCATION;VALUE=URI;X-ADDRESS=4501 Casa Loma Ave\, Yorba 
 Linda\, United States;X-APPLE-RADIUS=100;X-TITLE=Yorba Linda Community Cen
 ter:geo:0,0
END:VEVENT
BEGIN:VTIMEZONE
TZID:America/Los_Angeles
X-LIC-LOCATION:America/Los_Angeles
BEGIN:DAYLIGHT
DTSTART:20240310T030000
TZOFFSETFROM:-0800
TZOFFSETTO:-0700
TZNAME:PDT
END:DAYLIGHT
END:VTIMEZONE
END:VCALENDAR