BEGIN:VCALENDAR
VERSION:2.0
PRODID:-//wp-events-plugin.com//7.2.3.1//EN
TZID:America/Los_Angeles
X-WR-TIMEZONE:America/Los_Angeles
BEGIN:VEVENT
UID:4162@parentingoc.guidoclients.com
DTSTART;TZID=America/Los_Angeles:20251024T163000
DTEND;TZID=America/Los_Angeles:20251024T203000
DTSTAMP:20251003T181042Z
URL:https://parentingoc.guidoclients.com/events/westminsters-halloween-spo
 oktacular/
SUMMARY:Westminster’s Halloween Spooktacular
DESCRIPTION:Westminster goes wild for Halloween a week before the actual da
 y. The Civic Center’s Sunken Gardens will be the site for on October 24.
  Festivities begin with a Trunk-or-Treat event at 4:30 pm and conclude wit
 h a special Movie Night at 6:30 pm. The spooky fun also includes games\, H
 alloween-inspired activities\, food\, and more merriment. For more info\, 
 please call the Community Services &amp\; Recreation Department at (714) 8
 95-2860 or email at csronline@westminster-ca.gov/.\n\nhttps://www.westmins
 ter-ca.gov/departments/community-services/recreation/special-events
CATEGORIES:Food &amp; Drink,Halloween,Music, Theater &amp;
 Entertainment,Sports &amp; Games
LOCATION:Civic Center Sunken Gardens\, 8200 Westminster Blvd\, Westminster\
 , United States
X-APPLE-STRUCTURED-LOCATION;VALUE=URI;X-ADDRESS=8200 Westminster Blvd\, Wes
 tminster\, United States;X-APPLE-RADIUS=100;X-TITLE=Civic Center Sunken Ga
 rdens:geo:0,0
END:VEVENT
BEGIN:VTIMEZONE
TZID:America/Los_Angeles
X-LIC-LOCATION:America/Los_Angeles
BEGIN:DAYLIGHT
DTSTART:20250309T030000
TZOFFSETFROM:-0800
TZOFFSETTO:-0700
TZNAME:PDT
END:DAYLIGHT
END:VTIMEZONE
END:VCALENDAR