BEGIN:VCALENDAR
VERSION:2.0
PRODID:-//wp-events-plugin.com//7.2.3.1//EN
TZID:America/Los_Angeles
X-WR-TIMEZONE:America/Los_Angeles
BEGIN:VEVENT
UID:4161@parentingoc.guidoclients.com
DTSTART;TZID=America/Los_Angeles:20251003T160000
DTEND;TZID=America/Los_Angeles:20251005T200000
DTSTAMP:20251003T180655Z
URL:https://parentingoc.guidoclients.com/events/tustin-tiller-days-4/
SUMMARY:Tustin Tiller Days
DESCRIPTION:Tiller Days return\, offering three big days of autumnal fun. T
 ustin’s Columbus Park will be packed with carnival rides\, contests\, li
 ve music and a card show. There will be food for all plus wine tasting and
  a brewfest for adults. The perennially popular parade proceeds through Ol
 d Town Tustin on October 4 beginning at 10 am. Tiller Days’s fun occurs 
 October 3 (4 pm-11pm) October 4 (11 am-11 pm)\, and October 5 (12 pm-8 pm)
 .\n\nhttps://www.tustinca.org/637/Tustin-Tiller-Days\n\n&nbsp\;
CATEGORIES:Food &amp; Drink,Halloween,Music, Theater &amp;
 Entertainment,Sports &amp; Games
LOCATION:Columbus Tustin Park\, 17522 Beneta Way\, Tustin\, CA\, United Sta
 tes
X-APPLE-STRUCTURED-LOCATION;VALUE=URI;X-ADDRESS=17522 Beneta Way\, Tustin\,
  CA\, United States;X-APPLE-RADIUS=100;X-TITLE=Columbus Tustin Park:geo:0,
 0
END:VEVENT
BEGIN:VTIMEZONE
TZID:America/Los_Angeles
X-LIC-LOCATION:America/Los_Angeles
BEGIN:DAYLIGHT
DTSTART:20250309T030000
TZOFFSETFROM:-0800
TZOFFSETTO:-0700
TZNAME:PDT
END:DAYLIGHT
END:VTIMEZONE
END:VCALENDAR