BEGIN:VCALENDAR
VERSION:2.0
PRODID:-//wp-events-plugin.com//7.2.3.1//EN
TZID:America/Los_Angeles
X-WR-TIMEZONE:America/Los_Angeles
BEGIN:VEVENT
UID:3972@parentingoc.guidoclients.com
DTSTART;TZID=America/Los_Angeles:20250601T110000
DTEND;TZID=America/Los_Angeles:20250601T180000
DTSTAMP:20250529T193306Z
URL:https://parentingoc.guidoclients.com/events/tustin-street-fair-chili-c
 ook-off-3/
SUMMARY:Tustin Street Fair & Chili Cook-Off
DESCRIPTION:Old Town Tustin will be bustling on June 1 with the 41st editio
 n of this popular community event. The day-long fest (11 am-6 pm) holds a 
 variety of live performances\, contests\, and exhibitors. A Kids Fun Zone 
 contains games\, bounce houses\, and entertainment. There will be a select
 ion of food vendors along with the Chili Cook-Off\, which is hailed as Ame
 rica’s largest one-day chili cook-off. Fair proceeds benefit local non-p
 rofit organizations and service groups.\n\nhttps://www.tustinca.org/456/St
 reet-Fair-Chili-Cook-Off
ATTACH;FMTTYPE=image/jpeg:https://parentingoc.guidoclients.com/wp-content/
 uploads/2025/05/Tustin-Street-Fair-and-Chili-Cook-Off_courtesy-city-of-Tus
 tin.web-1.jpeg
CATEGORIES:Fairs &amp; Festivals,Food &amp; Drink,Music, Theater &amp;
 Entertainment,Sports &amp; Games,Things To Do
LOCATION:Main Street\, Main Street\, Tustin\, United States
X-APPLE-STRUCTURED-LOCATION;VALUE=URI;X-ADDRESS=Main Street\, Tustin\, Unit
 ed States;X-APPLE-RADIUS=100;X-TITLE=Main Street:geo:0,0
END:VEVENT
BEGIN:VTIMEZONE
TZID:America/Los_Angeles
X-LIC-LOCATION:America/Los_Angeles
BEGIN:DAYLIGHT
DTSTART:20250309T030000
TZOFFSETFROM:-0800
TZOFFSETTO:-0700
TZNAME:PDT
END:DAYLIGHT
END:VTIMEZONE
END:VCALENDAR