BEGIN:VCALENDAR
VERSION:2.0
PRODID:-//wp-events-plugin.com//7.2.3.1//EN
TZID:America/Los_Angeles
X-WR-TIMEZONE:America/Los_Angeles
BEGIN:VEVENT
UID:3776@parentingoc.guidoclients.com
DTSTART;TZID=America/Los_Angeles:20250412T110000
DTEND;TZID=America/Los_Angeles:20250420T150000
DTSTAMP:20250320T205157Z
URL:https://parentingoc.guidoclients.com/events/touch-a-truck-week/
SUMMARY:Touch-a-Truck Week
DESCRIPTION:The Discovery Cube LA presents a special hands-on event from Ap
 ril 12-20. Youngsters can have fun\, educational experience interacting wi
 th vehicles such as ones used by the police\, firefighters\, lifeguards\, 
 construction workers\, bus drivers\, and park rangers. There will also be 
 learning stations\, an inflatable obstacle course\, a kids engineering zon
 e\, early learners ride-on vehicles\, bouncy animals area\, and other inte
 ractive amusements. \n\nwww.discoverycube.org/los-angeles/events/touch-a-
 truck/
ATTACH;FMTTYPE=image/jpeg:https://parentingoc.guidoclients.com/wp-content/
 uploads/2025/03/Touch-a-truck_courtesy-Discovery-Cube-LA.jpg
CATEGORIES:Education &amp; Workshops,Museums &amp; Art,Sports &amp; Games
LOCATION:The Discovery Cube LA\, 11800 Foothill Blvd\, Los Angeles\, United
  States
X-APPLE-STRUCTURED-LOCATION;VALUE=URI;X-ADDRESS=11800 Foothill Blvd\, Los A
 ngeles\, United States;X-APPLE-RADIUS=100;X-TITLE=The Discovery Cube LA:ge
 o:0,0
END:VEVENT
BEGIN:VTIMEZONE
TZID:America/Los_Angeles
X-LIC-LOCATION:America/Los_Angeles
BEGIN:DAYLIGHT
DTSTART:20250309T030000
TZOFFSETFROM:-0800
TZOFFSETTO:-0700
TZNAME:PDT
END:DAYLIGHT
END:VTIMEZONE
END:VCALENDAR