BEGIN:VCALENDAR
VERSION:2.0
PRODID:-//wp-events-plugin.com//7.2.3.1//EN
TZID:America/Los_Angeles
X-WR-TIMEZONE:America/Los_Angeles
BEGIN:VEVENT
UID:4172@parentingoc.guidoclients.com
DTSTART;TZID=America/Los_Angeles:20251008T160000
DTEND;TZID=America/Los_Angeles:20251031T200000
DTSTAMP:20251003T183738Z
URL:https://parentingoc.guidoclients.com/events/the-pumpkin-patch-12/
SUMMARY:The Pumpkin Patch
DESCRIPTION:Known as Southern California’s oldest pumpkin patch\, this Pl
 acentia tradition comes stuffed with pumpkins and gourds - and many other 
 family-oriented attractions too. Visitors can go on tractor rides\, play c
 arnival games\, meet baby animals and search for gemstones and gold – al
 ong with bouncing around inflatables and a Human Hamster Ball. This Patch 
 is open 4 pm-9 pm Wednesdays-Thursdays\, 4 pm-10 pm Fridays\, 10 am-10 pm 
 Saturdays\, and 11 am-8 pm Sundays from October 8-31. \n\nhttps://the-pum
 pkin-patch.com\n\n&nbsp\;
CATEGORIES:Halloween,Kids,Outdoors &amp; Animals,Sports &amp; Games
LOCATION:300 Yorba Linda Boulevard\, CA Placentia\, 300 Yorba Linda Blvd.\,
  Placentia\, United States
X-APPLE-STRUCTURED-LOCATION;VALUE=URI;X-ADDRESS=300 Yorba Linda Blvd.\, Pla
 centia\, United States;X-APPLE-RADIUS=100;X-TITLE=300 Yorba Linda Boulevar
 d\, CA Placentia:geo:0,0
END:VEVENT
BEGIN:VTIMEZONE
TZID:America/Los_Angeles
X-LIC-LOCATION:America/Los_Angeles
BEGIN:DAYLIGHT
DTSTART:20250309T030000
TZOFFSETFROM:-0800
TZOFFSETTO:-0700
TZNAME:PDT
END:DAYLIGHT
END:VTIMEZONE
END:VCALENDAR