BEGIN:VCALENDAR
VERSION:2.0
PRODID:-//wp-events-plugin.com//7.2.3.1//EN
TZID:America/Los_Angeles
X-WR-TIMEZONE:America/Los_Angeles
BEGIN:VEVENT
UID:4173@parentingoc.guidoclients.com
DTSTART;TZID=America/Los_Angeles:20251002T170000
DTEND;TZID=America/Los_Angeles:20251031T210000
DTSTAMP:20251003T184005Z
URL:https://parentingoc.guidoclients.com/events/the-pumpkin-factor/
SUMMARY:The Pumpkin Factor
DESCRIPTION:The Pumpkin Factory will again be open for business at the West
 minster Mall\, from October 2-31. Besides being well stocked with pumpkins
 \, they host a Fall Harvest Festival too that offers rides\, bouncy houses
 \, carnival games\, and a petting zoo and other amusements. Operating hour
 s are 5 pm-9 pm Mondays-Thursdays\; 4 pm-10 pm Fridays\; 10 am-10 pm Satur
 days and 10 am-9 pm Sundays. The Factory has a Corona location (1545 Circl
 e City Drive) too.\n\nhttps://thepumpkinfactory.com\n\n&nbsp\;\n\n&nbsp\;\
 n\n 
CATEGORIES:Fairs &amp; Festivals,Kids,Outdoors &amp; Animals,Sports &amp;
 Games
LOCATION:Westminster Mall\, 1025 Westminster Mall\, Westminster\, CA\, Unit
 ed States
X-APPLE-STRUCTURED-LOCATION;VALUE=URI;X-ADDRESS=1025 Westminster Mall\, Wes
 tminster\, CA\, United States;X-APPLE-RADIUS=100;X-TITLE=Westminster Mall:
 geo:0,0
END:VEVENT
BEGIN:VTIMEZONE
TZID:America/Los_Angeles
X-LIC-LOCATION:America/Los_Angeles
BEGIN:DAYLIGHT
DTSTART:20250309T030000
TZOFFSETFROM:-0800
TZOFFSETTO:-0700
TZNAME:PDT
END:DAYLIGHT
END:VTIMEZONE
END:VCALENDAR