BEGIN:VCALENDAR
VERSION:2.0
PRODID:-//wp-events-plugin.com//7.2.3.1//EN
TZID:America/Los_Angeles
X-WR-TIMEZONE:America/Los_Angeles
BEGIN:VEVENT
UID:3524@parentingoc.guidoclients.com
DTSTART;TZID=America/Los_Angeles:20250118T200000
DTEND;TZID=America/Los_Angeles:20250118T220000
DTSTAMP:20250108T200650Z
URL:https://parentingoc.guidoclients.com/events/the-peking-acrobats-2/
SUMMARY:The Peking Acrobats
DESCRIPTION:https://www.scfta.org/events/2025/peking-acrobats\n\nTrick-cycl
 ing\, precision tumbling\, juggling\, somersaulting\, gymnastics\, and a p
 agoda of chairs are all part of the exciting performance staged by this wo
 rld-renowned troupe. The Peking Acrobats honor Chinese traditions that are
  deeply rooted in folk art and history. Their gravity-defying theatrics cr
 eate a true stage spectacle that can be experienced at the Segerstrom Conc
 ert on January 18 at 8 pm. Purchase your seats at https://seats.scfta.org/
 single?id=29502&amp\;_gl=1*tkwqs8*_gcl_au*NzY2MzYyOTUxLjE3MzM3MjU1MTI.
ATTACH;FMTTYPE=image/jpeg:https://parentingoc.guidoclients.com/wp-content/
 uploads/2025/01/The-Peking-Acrobats.png
CATEGORIES:Music, Theater &amp; Entertainment,Things To Do
LOCATION:Segerstrom Center for the Arts\, 600 Town Center Drive\, Costa Mes
 a\, CA\, United States
X-APPLE-STRUCTURED-LOCATION;VALUE=URI;X-ADDRESS=600 Town Center Drive\, Cos
 ta Mesa\, CA\, United States;X-APPLE-RADIUS=100;X-TITLE=Segerstrom Center 
 for the Arts:geo:0,0
END:VEVENT
BEGIN:VTIMEZONE
TZID:America/Los_Angeles
X-LIC-LOCATION:America/Los_Angeles
BEGIN:STANDARD
DTSTART:20241103T010000
TZOFFSETFROM:-0700
TZOFFSETTO:-0800
TZNAME:PST
END:STANDARD
END:VTIMEZONE
END:VCALENDAR