BEGIN:VCALENDAR
VERSION:2.0
PRODID:-//wp-events-plugin.com//7.2.3.1//EN
TZID:America/Los_Angeles
X-WR-TIMEZONE:America/Los_Angeles
BEGIN:VEVENT
UID:4147@parentingoc.guidoclients.com
DTSTART;TZID=America/Los_Angeles:20250814T170000
DTEND;TZID=America/Los_Angeles:20250814T210000
DTSTAMP:20250715T213630Z
URL:https://parentingoc.guidoclients.com/events/taste-of-placentia-2/
SUMMARY:Taste of Placentia
DESCRIPTION:For the 11th year\, the city of Placentia welcomes the public t
 o explore an impressive menu of food and drinks served up by local food es
 tablishments. This year’s event\, happening August 14 in Tri City Park (
 5 pm-9 pm)\, not only dishes up a variety of items to taste but it also pr
 esents music from the 80z All Stars (between 6:30 pm-8:30 pm) along with a
  live DJ. Proceeds benefit PYLUSD Schools. Purchase tickets at https://www
 .eventbrite.com/e/11th-annual-taste-of-placentia-tickets-1200570381329?aff
 =oddtdtcreator\n\nhttps://www.placentiachamber.com/taste-of-placentia/\n\n
 &nbsp\;
CATEGORIES:Charity,Food &amp; Drink,Music, Theater &amp; Entertainment
LOCATION:Tri City Park\, 2301 North Kraemer Boulevard\, Placentia\, United 
 States
X-APPLE-STRUCTURED-LOCATION;VALUE=URI;X-ADDRESS=2301 North Kraemer Boulevar
 d\, Placentia\, United States;X-APPLE-RADIUS=100;X-TITLE=Tri City Park:geo
 :0,0
END:VEVENT
BEGIN:VTIMEZONE
TZID:America/Los_Angeles
X-LIC-LOCATION:America/Los_Angeles
BEGIN:DAYLIGHT
DTSTART:20250309T030000
TZOFFSETFROM:-0800
TZOFFSETTO:-0700
TZNAME:PDT
END:DAYLIGHT
END:VTIMEZONE
END:VCALENDAR