BEGIN:VCALENDAR
VERSION:2.0
PRODID:-//wp-events-plugin.com//7.2.3.1//EN
TZID:America/Los_Angeles
X-WR-TIMEZONE:America/Los_Angeles
BEGIN:VEVENT
UID:4171@parentingoc.guidoclients.com
DTSTART;TZID=America/Los_Angeles:20251001T090000
DTEND;TZID=America/Los_Angeles:20251031T180000
DTSTAMP:20251003T183413Z
URL:https://parentingoc.guidoclients.com/events/tanaka-farms-pumpkin-patch
 es/
SUMMARY:Tanaka Farms Pumpkin Patches
DESCRIPTION:It’s pumpkin patch season at this Irvine-based farm. Through 
 November 2\, visitors can explore acres of pumpkins (and the U-Pick Veggie
  Patch too). Other autumnal activities include wagon rides\, barnyard educ
 ational exhibit\, games\, and a pumpkin cannon (only first two happen dail
 y). Check https://tanakafarms.ticketspice.com/tanaka-farms-pumpkin-patch f
 or details\, hours\, and reservations. They also operate a Pumpkin Patch a
 t Costa Mesa’s Hana Field (through October 30) that features other speci
 al activities. Visit https://tanakafarms.ticketspice.com/hana-field-in-cos
 ta-mesa-pumpkin-patch for more information and reservations. \n\nhttps://
 www.tanakafarms.com/tanaka-farms-pumpkin-patch\n\n9/21/25-11/2/25\n\n9 am 
 6 pm\n\n&nbsp\;\n\n&nbsp\;
CATEGORIES:Kids,Outdoors &amp; Animals,Sports &amp; Games
LOCATION:Tanaka Farms\, 5380 3/4 UNIVERSITY DR.\, IRVINE\, United States
X-APPLE-STRUCTURED-LOCATION;VALUE=URI;X-ADDRESS=5380 3/4 UNIVERSITY DR.\, I
 RVINE\, United States;X-APPLE-RADIUS=100;X-TITLE=Tanaka Farms:geo:0,0
END:VEVENT
BEGIN:VTIMEZONE
TZID:America/Los_Angeles
X-LIC-LOCATION:America/Los_Angeles
BEGIN:DAYLIGHT
DTSTART:20250309T030000
TZOFFSETFROM:-0800
TZOFFSETTO:-0700
TZNAME:PDT
END:DAYLIGHT
END:VTIMEZONE
END:VCALENDAR