BEGIN:VCALENDAR
VERSION:2.0
PRODID:-//wp-events-plugin.com//7.2.3.1//EN
TZID:America/Los_Angeles
X-WR-TIMEZONE:America/Los_Angeles
BEGIN:VEVENT
UID:4057@parentingoc.guidoclients.com
DTSTART;TZID=America/Los_Angeles:20250710T173000
DTEND;TZID=America/Los_Angeles:20250731T200000
DTSTAMP:20250708T202745Z
URL:https://parentingoc.guidoclients.com/events/sunset-sounds-9/
SUMMARY:Sunset Sounds
DESCRIPTION:Thursday evenings are packed with entertainment at South Coast 
 Botanic Garden\, from live music (6 pm-8 pm) to a super Kids Zone (5:30 pm
 -8 pm). The Sunset Sounds lineup presents a Disco Night with Modern Highwa
 y (July 10) and blues with The Chester Martin Blues Band (July 17). July 2
 4 offers the Smooth Sounds of Santana while Ronobir Lahiri blends Indian s
 itar music with classic American pop on July 31. Buy tickets at https://so
 uthcoastbotanicgarden.org/sunset-series/.\n\nhttps://southcoastbotanicgard
 en.org/sunset-series/\n\nhttps://southcoastbotanicgarden.org/sunset-series
 /\n\n&nbsp\;
ATTACH;FMTTYPE=image/jpeg:https://parentingoc.guidoclients.com/wp-content/
 uploads/2025/07/Sunset-Sounds_courtesy-South-Coast-Botanic-Garden.jpg
CATEGORIES:Kids,Music, Theater &amp; Entertainment
LOCATION:South Coast Botanic Garden\, 26300 Crenshaw Blvd.\, Palos Verdes P
 eninsula\, CA\, United States
X-APPLE-STRUCTURED-LOCATION;VALUE=URI;X-ADDRESS=26300 Crenshaw Blvd.\, Palo
 s Verdes Peninsula\, CA\, United States;X-APPLE-RADIUS=100;X-TITLE=South C
 oast Botanic Garden:geo:0,0
END:VEVENT
BEGIN:VTIMEZONE
TZID:America/Los_Angeles
X-LIC-LOCATION:America/Los_Angeles
BEGIN:DAYLIGHT
DTSTART:20250309T030000
TZOFFSETFROM:-0800
TZOFFSETTO:-0700
TZNAME:PDT
END:DAYLIGHT
END:VTIMEZONE
END:VCALENDAR