BEGIN:VCALENDAR
VERSION:2.0
PRODID:-//wp-events-plugin.com//7.2.3.1//EN
TZID:America/Los_Angeles
X-WR-TIMEZONE:America/Los_Angeles
BEGIN:VEVENT
UID:4111@parentingoc.guidoclients.com
DTSTART;TZID=America/Los_Angeles:20250802T190000
DTEND;TZID=America/Los_Angeles:20250823T210000
DTSTAMP:20250820T221517Z
URL:https://parentingoc.guidoclients.com/events/sunday-night-concerts-at-p
 earson-park/
SUMMARY:Sunday Night Concerts at Pearson Park
DESCRIPTION:Anaheim’s Pearson Park Amphitheatre has a quartet of free mus
 ical shows in August. On the 2nd\, Anything for Salinas salutes the music 
 of Selena. Rock With You performs Michael Jackson tunes on August 9. Enjoy
  Beatles songs from Britain’s Finest on August 16\, while August 23 feat
 ures the No Doubt tribute group No Duh. Showtimes are 7 pm-9 pm. Please ma
 ke free reservations at https://secure.rec1.com/CA/city-of-anaheim/catalog
 /index/a48f844ee2867b44864afb8ddf85ae1b?filter=c2VhcmNoPSZsb2NhdGlvbiU1QjY
 xMDQlNUQ9MQ==\n\nhttps://www.anaheim.net/1432/Pearson-Park-Amphitheatre
ATTACH;FMTTYPE=image/jpeg:https://parentingoc.guidoclients.com/wp-content/
 uploads/2025/07/Sunday-Night-Concerts-at-Pearson-Park_courtesy-city-of-Ana
 heim.jpeg
CATEGORIES:Featured,Free,Music, Theater &amp; Entertainment,Things To Do
LOCATION:Pearson Park\, 401 North Lemon Street \, Anaheim\, United States
X-APPLE-STRUCTURED-LOCATION;VALUE=URI;X-ADDRESS=401 North Lemon Street \,
  Anaheim\, United States;X-APPLE-RADIUS=100;X-TITLE=Pearson Park:geo:0,0
END:VEVENT
BEGIN:VTIMEZONE
TZID:America/Los_Angeles
X-LIC-LOCATION:America/Los_Angeles
BEGIN:DAYLIGHT
DTSTART:20250309T030000
TZOFFSETFROM:-0800
TZOFFSETTO:-0700
TZNAME:PDT
END:DAYLIGHT
END:VTIMEZONE
END:VCALENDAR