BEGIN:VCALENDAR
VERSION:2.0
PRODID:-//wp-events-plugin.com//7.2.3.1//EN
TZID:America/Los_Angeles
X-WR-TIMEZONE:America/Los_Angeles
BEGIN:VEVENT
UID:3969@parentingoc.guidoclients.com
DTSTART;TZID=America/Los_Angeles:20250530T170000
DTEND;TZID=America/Los_Angeles:20250601T220000
DTSTAMP:20250529T182210Z
URL:https://parentingoc.guidoclients.com/events/summerfest-3/
SUMMARY:SummerFest
DESCRIPTION:This Brea tradition returns to the St. Angela Merici Parish Sch
 ool for the 36th year. Known as the largest community event in northern Or
 ange County\, Summerfest presents an entertaining lineup that includes liv
 e bands\, rides\, attractions\, and games along with food\, drinks\, and a
 n auction. The festival\, which serves as a fundraiser for the school\, wi
 ll be open 5 pm-11 pm (May 30)\, 2 pm-11 pm (May 31)\, and 1 pm-10 pm (Jun
 e 1).\n\nhttps://www.summerfestbrea.org
ATTACH;FMTTYPE=image/jpeg:https://parentingoc.guidoclients.com/wp-content/
 uploads/2025/05/SummerFest_courtesy-Saint-Angela-Merici-Parish-School.web_
 .jpg
CATEGORIES:Fairs &amp; Festivals,Featured,Food &amp; Drink,Music, Theater
 &amp; Entertainment,Things To Do
LOCATION:St Angela Merici Parish School\, 575 S Walnut Ave\, Brea\, United 
 States
X-APPLE-STRUCTURED-LOCATION;VALUE=URI;X-ADDRESS=575 S Walnut Ave\, Brea\, U
 nited States;X-APPLE-RADIUS=100;X-TITLE=St Angela Merici Parish School:geo
 :0,0
END:VEVENT
BEGIN:VTIMEZONE
TZID:America/Los_Angeles
X-LIC-LOCATION:America/Los_Angeles
BEGIN:DAYLIGHT
DTSTART:20250309T030000
TZOFFSETFROM:-0800
TZOFFSETTO:-0700
TZNAME:PDT
END:DAYLIGHT
END:VTIMEZONE
END:VCALENDAR