BEGIN:VCALENDAR
VERSION:2.0
PRODID:-//wp-events-plugin.com//7.2.3.1//EN
TZID:America/Los_Angeles
X-WR-TIMEZONE:America/Los_Angeles
BEGIN:VEVENT
UID:4107@parentingoc.guidoclients.com
DTSTART;TZID=America/Los_Angeles:20250803T143000
DTEND;TZID=America/Los_Angeles:20250817T180000
DTSTAMP:20250715T193100Z
URL:https://parentingoc.guidoclients.com/events/summer-concerts-in-the-sea
 -terrace-park/
SUMMARY:Summer Concerts in the Sea Terrace Park
DESCRIPTION:Dana Point delivers two band performances on three Sundays in A
 ugust. Flock of 80s and Yachty by Nature revisit hits from yesteryear on A
 ugust 3. Wayward Sons and Queen Nation will rock out on August 10\, while 
 Sega Genecide and Tijuana Dogs perform August 17. The first band goes on a
 t 2:30 pm and the second set starts at 4:30 pm. Food trucks will be on-sit
 e too. \n\nhttps://www.danapoint.org/department/calendar/-curm-7/-cury-20
 25 \n\n&nbsp\;
CATEGORIES:Food &amp; Drink,Music, Theater &amp; Entertainment
LOCATION:PCH & Niguel Road\, PCH & Niguel Road\, Dana Point\, United States
X-APPLE-STRUCTURED-LOCATION;VALUE=URI;X-ADDRESS=PCH & Niguel Road\, Dana Po
 int\, United States;X-APPLE-RADIUS=100;X-TITLE=PCH & Niguel Road:geo:0,0
END:VEVENT
BEGIN:VTIMEZONE
TZID:America/Los_Angeles
X-LIC-LOCATION:America/Los_Angeles
BEGIN:DAYLIGHT
DTSTART:20250309T030000
TZOFFSETFROM:-0800
TZOFFSETTO:-0700
TZNAME:PDT
END:DAYLIGHT
END:VTIMEZONE
END:VCALENDAR