BEGIN:VCALENDAR
VERSION:2.0
PRODID:-//wp-events-plugin.com//7.2.3.1//EN
TZID:America/Los_Angeles
X-WR-TIMEZONE:America/Los_Angeles
BEGIN:VEVENT
UID:237@parentingoc.guidoclients.com
DTSTART;TZID=America/Los_Angeles:20230501T000000
DTEND;TZID=America/Los_Angeles:20230604T000000
DTSTAMP:20230503T212010Z
URL:https://parentingoc.guidoclients.com/events/star-wars-month/
SUMMARY:Star Wars Month
DESCRIPTION:The Disneyland Resort doesn’t just honor Star Wars on May the
  Fourth\, but for all of May. In fact\, straight through June the Fourth. 
 While there will certainly be various Star Wars-related activities around 
 the park\, the big news is the return of Hyperspace Mountain\, which place
 s you in the middle of a galactic battle between New Republic X-wing starf
 ighters and Imperial TIE fighters. Please note\, you must be 40” tall fo
 r this ride.
ATTACH;FMTTYPE=image/jpeg:https://parentingoc.guidoclients.com/wp-content/
 uploads/2023/04/Hyperspace-Mountain-returns-to-Disneyland-Park-Matt-Strosh
 ane_Disneyland-Resort-scaled.jpg
CATEGORIES:Amusement Parks
LOCATION:1313 Disneyland Dr\, 1313 Disneyland Dr\, Anaheim\, United States
X-APPLE-STRUCTURED-LOCATION;VALUE=URI;X-ADDRESS=1313 Disneyland Dr\, Anahei
 m\, United States;X-APPLE-RADIUS=100;X-TITLE=1313 Disneyland Dr:geo:0,0
END:VEVENT
BEGIN:VTIMEZONE
TZID:America/Los_Angeles
X-LIC-LOCATION:America/Los_Angeles
BEGIN:DAYLIGHT
DTSTART:20230312T030000
TZOFFSETFROM:-0800
TZOFFSETTO:-0700
TZNAME:PDT
END:DAYLIGHT
END:VTIMEZONE
END:VCALENDAR