BEGIN:VCALENDAR
VERSION:2.0
PRODID:-//wp-events-plugin.com//7.2.3.1//EN
TZID:America/Los_Angeles
X-WR-TIMEZONE:America/Los_Angeles
BEGIN:VEVENT
UID:4160@parentingoc.guidoclients.com
DTSTART;TZID=America/Los_Angeles:20251026T160000
DTEND;TZID=America/Los_Angeles:20251026T200000
DTSTAMP:20251003T180413Z
URL:https://parentingoc.guidoclients.com/events/stanton-halloween-festival
 /
SUMMARY:Stanton Halloween Festival
DESCRIPTION:Goblins and ghosts of all ages are warmly welcome to celebrate 
 Halloween at Stanton’s Central Park on October 26. From 4 pm-8 pm\, the 
 park will be stocked with a variety of games\, live entertainment\, food t
 rucks\, and costume contests. No pre-registration is required for attendin
 g this family-friendly party\; however\, the city does ask that everyone b
 rings their own trick-or-treat bag.\n\nhttps://www.stantonca.gov/calendar.
 php?view=month&amp\;month=10&amp\;day=01&amp\;year=2024&amp\;id=223&amp\;e
 vent=223
CATEGORIES:Food &amp; Drink,Halloween,Kids,Music, Theater &amp;
 Entertainment,Sports &amp; Games
LOCATION:Stanton Central Park\, 10660 Western Avenue\, Stanton\, CA\, Unite
 d States
X-APPLE-STRUCTURED-LOCATION;VALUE=URI;X-ADDRESS=10660 Western Avenue\, Stan
 ton\, CA\, United States;X-APPLE-RADIUS=100;X-TITLE=Stanton Central Park:g
 eo:0,0
END:VEVENT
BEGIN:VTIMEZONE
TZID:America/Los_Angeles
X-LIC-LOCATION:America/Los_Angeles
BEGIN:DAYLIGHT
DTSTART:20250309T030000
TZOFFSETFROM:-0800
TZOFFSETTO:-0700
TZNAME:PDT
END:DAYLIGHT
END:VTIMEZONE
END:VCALENDAR