BEGIN:VCALENDAR
VERSION:2.0
PRODID:-//wp-events-plugin.com//7.2.3.1//EN
TZID:America/Los_Angeles
X-WR-TIMEZONE:America/Los_Angeles
BEGIN:VEVENT
UID:3380@parentingoc.guidoclients.com
DTSTART;TZID=America/Los_Angeles:20241201T100000
DTEND;TZID=America/Los_Angeles:20241231T180000
DTSTAMP:20241121T203248Z
URL:https://parentingoc.guidoclients.com/events/south-coast-plazas-holiday
 -activities/
SUMMARY:South Coast Plaza’s Holiday Activities
DESCRIPTION:Santa will be at South Coast Plaza for photos through December 
 24. Kids also can ride on the Santa's Express Train &amp\; Reindeer Carous
 el from November 29-December 31. A Santa Craft Shop will be located at the
  Carousel Court (daily December 6-24) and at Macy’s Home Store Wing (Dec
 ember 6-8\, 13-15\, and 20-24) too. Check https://www.southcoastplaza.com/
 holiday/ for more info\, like mall hours\, train ride rules\, and photo de
 tails.
ATTACH;FMTTYPE=image/jpeg:https://parentingoc.guidoclients.com/wp-content/
 uploads/2024/11/South-Coast-Plazas-Holiday-Activities_courtesy-South-Coast
 -Plaza.web_.jpg
CATEGORIES:Christmas,Music, Theater &amp; Entertainment
LOCATION:South Coast Plaza\, 3333 Bristol Street\, Costa Mesa\, United Stat
 es
X-APPLE-STRUCTURED-LOCATION;VALUE=URI;X-ADDRESS=3333 Bristol Street\, Costa
  Mesa\, United States;X-APPLE-RADIUS=100;X-TITLE=South Coast Plaza:geo:0,0
END:VEVENT
BEGIN:VTIMEZONE
TZID:America/Los_Angeles
X-LIC-LOCATION:America/Los_Angeles
BEGIN:STANDARD
DTSTART:20241103T010000
TZOFFSETFROM:-0700
TZOFFSETTO:-0800
TZNAME:PST
END:STANDARD
END:VTIMEZONE
END:VCALENDAR