BEGIN:VCALENDAR
VERSION:2.0
PRODID:-//wp-events-plugin.com//7.2.3.1//EN
TZID:America/Los_Angeles
X-WR-TIMEZONE:America/Los_Angeles
BEGIN:VEVENT
UID:3521@parentingoc.guidoclients.com
DTSTART;TZID=America/Los_Angeles:20250125T103000
DTEND;TZID=America/Los_Angeles:20250125T144500
DTSTAMP:20250109T223441Z
URL:https://parentingoc.guidoclients.com/events/snowfest/
SUMMARY:Snowfest
DESCRIPTION:Snow in the forecast at Lake Forest’s Pittsford Park on Janua
 ry 25. This winter wonderland delivers a free snow play area for kids 10 a
 nd under as well as cool fun games and other attractions for all ages (inc
 luding sledding although that has a fee). Snowfest boasts three sessions (
 10:30 am-11:45 am\; 12 pm-1:15 pm and 1:30 pm-2:45 pm). Registration is ma
 ndatory since it typically sells out. Call the Rec Center (949-273-6960) f
 or a wristband.\nhttps://www.lakeforestca.gov/en/facilities/sports-park-an
 d-recreation-center
ATTACH;FMTTYPE=image/jpeg:https://parentingoc.guidoclients.com/wp-content/
 uploads/2024/12/Snowfest_courtesy-of-city-of-Lake-Forest.jpg
CATEGORIES:Featured,Holiday,Outdoors &amp; Animals
LOCATION:Lake Forest’s Pittsford Park\, 21701 Pittsford Drive\, Lake Fore
 st\, United States
X-APPLE-STRUCTURED-LOCATION;VALUE=URI;X-ADDRESS=21701 Pittsford Drive\, Lak
 e Forest\, United States;X-APPLE-RADIUS=100;X-TITLE=Lake Forest’s Pittsf
 ord Park:geo:0,0
END:VEVENT
BEGIN:VTIMEZONE
TZID:America/Los_Angeles
X-LIC-LOCATION:America/Los_Angeles
BEGIN:STANDARD
DTSTART:20241103T010000
TZOFFSETFROM:-0700
TZOFFSETTO:-0800
TZNAME:PST
END:STANDARD
END:VTIMEZONE
END:VCALENDAR