BEGIN:VCALENDAR
VERSION:2.0
PRODID:-//wp-events-plugin.com//7.2.3.1//EN
TZID:America/Los_Angeles
X-WR-TIMEZONE:America/Los_Angeles
BEGIN:VEVENT
UID:3228@parentingoc.guidoclients.com
DTSTART;TZID=America/Los_Angeles:20241201T160000
DTEND;TZID=America/Los_Angeles:20241231T220000
DTSTAMP:20241205T214133Z
URL:https://parentingoc.guidoclients.com/events/skating-by-the-sea-2/
SUMMARY:Skating by the Sea
DESCRIPTION:Hotel del Coronado once again is hosting its lovely beachfront 
 ice rink that provides winter fun and stunning Pacific Ocean views. The sc
 enic rink is up through January 5. Times vary. Reservations are open to th
 e public\, and they include ice skate rental and up to 90 minutes of skati
 ng\; however\, they must be made in advance (and reservations also are non
 -refundable). Consult https://hoteldel.com/events/skating-by-the-sea/ for 
 more details and ticket information.
CATEGORIES:Christmas,Food &amp; Drink,Outdoors &amp; Animals
LOCATION:Hotel Del Coronado\, 1500 Orange Avenue\, Coronado\, CA\, United S
 tates
X-APPLE-STRUCTURED-LOCATION;VALUE=URI;X-ADDRESS=1500 Orange Avenue\, Corona
 do\, CA\, United States;X-APPLE-RADIUS=100;X-TITLE=Hotel Del Coronado:geo:
 0,0
END:VEVENT
BEGIN:VTIMEZONE
TZID:America/Los_Angeles
X-LIC-LOCATION:America/Los_Angeles
BEGIN:STANDARD
DTSTART:20241103T010000
TZOFFSETFROM:-0700
TZOFFSETTO:-0800
TZNAME:PST
END:STANDARD
END:VTIMEZONE
END:VCALENDAR