BEGIN:VCALENDAR
VERSION:2.0
PRODID:-//wp-events-plugin.com//7.2.3.1//EN
TZID:America/Los_Angeles
X-WR-TIMEZONE:America/Los_Angeles
BEGIN:VEVENT
UID:4168@parentingoc.guidoclients.com
DTSTART;TZID=America/Los_Angeles:20251017T170000
DTEND;TZID=America/Los_Angeles:20251019T220000
DTSTAMP:20251003T182542Z
URL:https://parentingoc.guidoclients.com/events/silverado-days/
SUMMARY:Silverado Days
DESCRIPTION:The 69th edition of this long-running Buena Park fall tradition
  offers a selection of fun contests\, such as an Amateur Horseshoe Contest
 \, a Pie-Eating Contest\, a Baby Contest as well as a dog show and chili c
 ook-off. Happening In Peak Park\, the three-day fest includes carnival rid
 es and games\, food and music. Hours are 5 pm-11 pm (October 17)\, 10 am-1
 2 am (October 18)\, and 8 am-10 pm (October 19). \n\nhttps://www.silverad
 odays.com\n\n&nbsp\;\n\n&nbsp\;
CATEGORIES:Babies &amp; Toddlers,Food &amp; Drink,Music, Theater &amp;
 Entertainment,Sports &amp; Games
LOCATION:William Peak Park\, 7225 El Dorado Drive\, Buena Park\, CA\, Unite
 d States
X-APPLE-STRUCTURED-LOCATION;VALUE=URI;X-ADDRESS=7225 El Dorado Drive\, Buen
 a Park\, CA\, United States;X-APPLE-RADIUS=100;X-TITLE=William Peak Park:g
 eo:0,0
END:VEVENT
BEGIN:VTIMEZONE
TZID:America/Los_Angeles
X-LIC-LOCATION:America/Los_Angeles
BEGIN:DAYLIGHT
DTSTART:20250309T030000
TZOFFSETFROM:-0800
TZOFFSETTO:-0700
TZNAME:PDT
END:DAYLIGHT
END:VTIMEZONE
END:VCALENDAR