BEGIN:VCALENDAR
VERSION:2.0
PRODID:-//wp-events-plugin.com//7.2.3.1//EN
TZID:America/Los_Angeles
X-WR-TIMEZONE:America/Los_Angeles
BEGIN:VEVENT
UID:4068@parentingoc.guidoclients.com
DTSTART;TZID=America/Los_Angeles:20250708T090000
DTEND;TZID=America/Los_Angeles:20250731T200000
DTSTAMP:20250716T221219Z
URL:https://parentingoc.guidoclients.com/events/shark-summer-at-birch-aqua
 rium/
SUMMARY:Shark Summer at Birch Aquarium
DESCRIPTION:It’s a summer of sharks (and rays!) at the Aquarium. From Jul
 y 5 through August 10\, humans can learn more about these mysterious creat
 ures by attending talks and feedings as well as checking out interactive s
 hark stations. Plus\, Summer Shark Sunsets happen on Thursdays with themed
  Trivia Nights and Pop-Up Science activities. General Aquarium hours are 9
  am-8 pm daily but check https://aquarium.ucsd.edu/events/shark-summer for
  specific details on times for the various activities.  \n\nhttps://aqua
 rium.ucsd.edu
ATTACH;FMTTYPE=image/jpeg:https://parentingoc.guidoclients.com/wp-content/
 uploads/2025/07/Shark-Summer_courtesy-Birch-Aquarium.jpg
CATEGORIES:Education &amp; Workshops,Museums &amp; Art,Outdoors &amp;
 Animals
LOCATION:Birch Aquarium at Scripps Institution of Oceanography\, 2300 Exped
 ition Way\, La Jolla\, CA\, United States
X-APPLE-STRUCTURED-LOCATION;VALUE=URI;X-ADDRESS=2300 Expedition Way\, La Jo
 lla\, CA\, United States;X-APPLE-RADIUS=100;X-TITLE=Birch Aquarium at Scri
 pps Institution of Oceanography:geo:0,0
END:VEVENT
BEGIN:VTIMEZONE
TZID:America/Los_Angeles
X-LIC-LOCATION:America/Los_Angeles
BEGIN:DAYLIGHT
DTSTART:20250309T030000
TZOFFSETFROM:-0800
TZOFFSETTO:-0700
TZNAME:PDT
END:DAYLIGHT
END:VTIMEZONE
END:VCALENDAR