BEGIN:VCALENDAR
VERSION:2.0
PRODID:-//wp-events-plugin.com//7.2.3.1//EN
TZID:America/Los_Angeles
X-WR-TIMEZONE:America/Los_Angeles
BEGIN:VEVENT
UID:4181@parentingoc.guidoclients.com
DTSTART;TZID=America/Los_Angeles:20251004T100000
DTEND;TZID=America/Los_Angeles:20251026T190000
DTSTAMP:20251003T190522Z
URL:https://parentingoc.guidoclients.com/events/seaworld-san-diegos-spookt
 acular-10/
SUMMARY:SeaWorld San Diego’s Spooktacular
DESCRIPTION:Weekends will be a wild time at SeaWorld this fall. This Spookt
 acular brings all types of Halloween adventures for families to experience
 . Highlights include the O.P. Otter’s Spooktacular Surprise theater show
 \, the Waterfront Pumpkin Patch\, Pirate Sea Shanty Band\, the Spooktacula
 r Pumpkin Hunt\, and the always popular Trick-or-Treat Candy Trail for kid
 s. New this year are the Spookley Dance Party and the Bones Brothers Quart
 et. Additionally\, a Día de los Muertos celebration happens November 1-2.
  \n\nhttps://seaworld.com/san-diego/events/halloween-spooktacular/ 
CATEGORIES:Amusement Parks,Halloween,Kids,Music, Theater &amp;
 Entertainment,Outdoors &amp; Animals,Sports &amp; Games
LOCATION:Sea World\, 500 Sea World Dr.\, San Diego\, United States
X-APPLE-STRUCTURED-LOCATION;VALUE=URI;X-ADDRESS=500 Sea World Dr.\, San Die
 go\, United States;X-APPLE-RADIUS=100;X-TITLE=Sea World:geo:0,0
END:VEVENT
BEGIN:VTIMEZONE
TZID:America/Los_Angeles
X-LIC-LOCATION:America/Los_Angeles
BEGIN:DAYLIGHT
DTSTART:20250309T030000
TZOFFSETFROM:-0800
TZOFFSETTO:-0700
TZNAME:PDT
END:DAYLIGHT
END:VTIMEZONE
END:VCALENDAR