BEGIN:VCALENDAR
VERSION:2.0
PRODID:-//wp-events-plugin.com//7.2.3.1//EN
TZID:America/Los_Angeles
X-WR-TIMEZONE:America/Los_Angeles
BEGIN:VEVENT
UID:3240@parentingoc.guidoclients.com
DTSTART;TZID=America/Los_Angeles:20241101T100000
DTEND;TZID=America/Los_Angeles:20241103T190000
DTSTAMP:20241022T203609Z
URL:https://parentingoc.guidoclients.com/events/seaworld-san-diego-dia-de-
 los-muertos/
SUMMARY:SeaWorld San Diego: Día de los Muertos
DESCRIPTION:Sea World caps off its spectacular Spooktacular with a special 
 Dia de los Muertos program November 1-3. Guests will be welcomed by large\
 , beautifully dressed Catrina statues and they can discover ofrendas (offe
 rings) of mementos and flowers honoring loved ones who have passed. The ho
 liday weekend also serves up a variety of traditional food options that wi
 ll be available for purchase throughout the park.\nhttps://seaworld.com/sa
 n-diego/events/dia-de-los-muertos/
ATTACH;FMTTYPE=image/jpeg:https://parentingoc.guidoclients.com/wp-content/
 uploads/2024/10/SeaWorld-San-Diego_-Dia-de-los-Muertos_courtesy-SeaWorld-S
 an-Diego.jpg
CATEGORIES:Food &amp; Drink,Outdoors &amp; Animals
LOCATION:Sea World\, 500 Sea World Dr.\, San Diego\, United States
X-APPLE-STRUCTURED-LOCATION;VALUE=URI;X-ADDRESS=500 Sea World Dr.\, San Die
 go\, United States;X-APPLE-RADIUS=100;X-TITLE=Sea World:geo:0,0
END:VEVENT
BEGIN:VTIMEZONE
TZID:America/Los_Angeles
X-LIC-LOCATION:America/Los_Angeles
BEGIN:DAYLIGHT
DTSTART:20240310T030000
TZOFFSETFROM:-0800
TZOFFSETTO:-0700
TZNAME:PDT
END:DAYLIGHT
BEGIN:STANDARD
DTSTART:20241103T010000
TZOFFSETFROM:-0700
TZOFFSETTO:-0800
TZNAME:PST
END:STANDARD
END:VTIMEZONE
END:VCALENDAR