BEGIN:VCALENDAR
VERSION:2.0
PRODID:-//wp-events-plugin.com//7.2.3.1//EN
TZID:America/Los_Angeles
X-WR-TIMEZONE:America/Los_Angeles
BEGIN:VEVENT
UID:3608@parentingoc.guidoclients.com
DTSTART;TZID=America/Los_Angeles:20250328T080000
DTEND;TZID=America/Los_Angeles:20250511T000000
DTSTAMP:20250402T184707Z
URL:https://parentingoc.guidoclients.com/events/season-of-the-force-4/
SUMMARY:Season of the Force
DESCRIPTION:This spring – specifically March 28-May 11 - will be a “Sea
 son of the Force” at Disneyland. A new nightly extravaganza\, “Shadows
  of Memory: A Skywalker Saga\,” spotlight memorable Skywalker saga momen
 ts through a stunning mix of projection effects and music. Luke Skywalker
  himself will make appearances for a limited time too. Other highlights i
 nclude Hyperspace Mountain’s return to Tomorrowland and the nighttime sp
 ectacle\, Fire of the Rising Moons\, which will have fireworks on select n
 ights.\n\nhttps://disneyland.disney.go.com/events-tours/disneyland/star-wa
 rs/
ATTACH;FMTTYPE=image/jpeg:https://parentingoc.guidoclients.com/wp-content/
 uploads/2025/02/JOwMHZDw.jpg
CATEGORIES:Amusement Parks,Featured,Music, Theater &amp; Entertainment
LOCATION:Disneyland Resort\, 1313 Disneyland Dr\, Anaheim\, CA\, United Sta
 tes
X-APPLE-STRUCTURED-LOCATION;VALUE=URI;X-ADDRESS=1313 Disneyland Dr\, Anahei
 m\, CA\, United States;X-APPLE-RADIUS=100;X-TITLE=Disneyland Resort:geo:0,
 0
END:VEVENT
BEGIN:VTIMEZONE
TZID:America/Los_Angeles
X-LIC-LOCATION:America/Los_Angeles
BEGIN:DAYLIGHT
DTSTART:20250309T030000
TZOFFSETFROM:-0800
TZOFFSETTO:-0700
TZNAME:PDT
END:DAYLIGHT
END:VTIMEZONE
END:VCALENDAR