BEGIN:VCALENDAR
VERSION:2.0
PRODID:-//wp-events-plugin.com//7.2.3.1//EN
TZID:America/Los_Angeles
X-WR-TIMEZONE:America/Los_Angeles
BEGIN:VEVENT
UID:4163@parentingoc.guidoclients.com
DTSTART;TZID=America/Los_Angeles:20251017T183000
DTEND;TZID=America/Los_Angeles:20251017T210000
DTSTAMP:20251007T205050Z
URL:https://parentingoc.guidoclients.com/events/scarium-family-night/
SUMMARY:Scarium Family Night
DESCRIPTION:The Aquarium of the Pacific transforms into a Scarium for its y
 early nighttime Halloween party. October 17 will hold an eerie evening of 
 family fun from 6:30 pm-9 pm. Guests can go on a self-guided scavenger hun
 t\, touch marine life (such as jellies and sharks)\, participate in a cost
 ume contest\, enjoy a vampire magician show\, and do some trick-or-treatin
 g (with provided goodie bags!). Reservations required\; purchase tickets a
 t https://tickets.aquariumofpacific.org/webstore/shop/viewItems.aspx?cg=SC
 ARIUM25&amp\;c=SCARIUM25/.\n\nhttps://www.aquariumofpacific.org/events/inf
 o/scarium_family_night/ 
ATTACH;FMTTYPE=image/jpeg:https://parentingoc.guidoclients.com/wp-content/
 uploads/2025/10/Photo-Illustration-of-a-family-dressed-for-Aquarium-of-the
 -Pacifics-Scarium-Family-Night-in-front-of-the-Honda-Blue-Cavern-habitat-i
 n-the-Aquariums-Great-Hall-Courtesy-Aquarium-of-the-Pacific-scaled.jpg
CATEGORIES:Halloween,Kids,Music, Theater &amp; Entertainment,Outdoors
 &amp; Animals,Things To Do
LOCATION:Aquarium of the Pacific\, 100 Aquarium Way\, Long Beach\, United S
 tates
X-APPLE-STRUCTURED-LOCATION;VALUE=URI;X-ADDRESS=100 Aquarium Way\, Long Bea
 ch\, United States;X-APPLE-RADIUS=100;X-TITLE=Aquarium of the Pacific:geo:
 0,0
END:VEVENT
BEGIN:VTIMEZONE
TZID:America/Los_Angeles
X-LIC-LOCATION:America/Los_Angeles
BEGIN:DAYLIGHT
DTSTART:20250309T030000
TZOFFSETFROM:-0800
TZOFFSETTO:-0700
TZNAME:PDT
END:DAYLIGHT
END:VTIMEZONE
END:VCALENDAR