BEGIN:VCALENDAR
VERSION:2.0
PRODID:-//wp-events-plugin.com//7.2.3.1//EN
TZID:America/Los_Angeles
X-WR-TIMEZONE:America/Los_Angeles
BEGIN:VEVENT
UID:3610@parentingoc.guidoclients.com
DTSTART;TZID=America/Los_Angeles:20250316T110000
DTEND;TZID=America/Los_Angeles:20250316T140000
DTSTAMP:20250221T223147Z
URL:https://parentingoc.guidoclients.com/events/santa-ana-zoos-birthday-2/
SUMMARY:Santa Ana Zoo’s Birthday
DESCRIPTION:Everyone is invited to join the Santa Ana Zoo in celebrating it
 s 73rd birthday. The joyous event will be happening on March 16\, from 11 
 am-2 pm. The day will feature special activities such as birthday-themed c
 rafts\, an all-zoo scavenger hunt\, educational activities\, and animal pr
 esentations. Speaking of animals\, they will not be left out of the celebr
 ation. Zoo inhabitants will be receiving "birthday enrichment treats". \n\
 nhttps://www.santaanazoo.org\n\n&nbsp\;
ATTACH;FMTTYPE=image/jpeg:https://parentingoc.guidoclients.com/wp-content/
 uploads/2025/02/5K0W-O0Q.jpg
CATEGORIES:Amusement Parks,Arts &amp; Crafts,Outdoors &amp; Animals
LOCATION:Santa Ana Zoo\, 1801 East Chestnut Avenue\, Santa Ana\, CA\, Unite
 d States
X-APPLE-STRUCTURED-LOCATION;VALUE=URI;X-ADDRESS=1801 East Chestnut Avenue\,
  Santa Ana\, CA\, United States;X-APPLE-RADIUS=100;X-TITLE=Santa Ana Zoo:g
 eo:0,0
END:VEVENT
BEGIN:VTIMEZONE
TZID:America/Los_Angeles
X-LIC-LOCATION:America/Los_Angeles
BEGIN:DAYLIGHT
DTSTART:20250309T030000
TZOFFSETFROM:-0800
TZOFFSETTO:-0700
TZNAME:PDT
END:DAYLIGHT
END:VTIMEZONE
END:VCALENDAR