BEGIN:VCALENDAR
VERSION:2.0
PRODID:-//wp-events-plugin.com//7.2.3.1//EN
TZID:America/Los_Angeles
X-WR-TIMEZONE:America/Los_Angeles
BEGIN:VEVENT
UID:4034@parentingoc.guidoclients.com
DTSTART;TZID=America/Los_Angeles:20250814T180000
DTEND;TZID=America/Los_Angeles:20250814T203000
DTSTAMP:20250716T221314Z
URL:https://parentingoc.guidoclients.com/events/san-clementes-summer-conce
 rt-series-5/
SUMMARY:San Clemente’s Summer Concert Series
DESCRIPTION:The San Clemente Pier is the home for most – but not all - of
  the city’s summer concerts. The series starts at the Pier on July 10 wi
 th Tunnelvision and continues there July 17 with the Kelly Boyz. July 24
 ’s concert with Wigs &amp\; Ties happens at Linda Lane Park\, before ret
 urning to the Pier with Family Style (July 31) and the Wheeland Brothers (
 August 14). All shows are 6 pm to sunset. \n\nhttps://www.san-clemente.or
 g/recreation-community/special-events
CATEGORIES:Music, Theater &amp; Entertainment
LOCATION:San Clemente Pier\, 622 Avenida Del Mar\, San Clemente\, United St
 ates
X-APPLE-STRUCTURED-LOCATION;VALUE=URI;X-ADDRESS=622 Avenida Del Mar\, San C
 lemente\, United States;X-APPLE-RADIUS=100;X-TITLE=San Clemente Pier:geo:0
 ,0
END:VEVENT
BEGIN:VTIMEZONE
TZID:America/Los_Angeles
X-LIC-LOCATION:America/Los_Angeles
BEGIN:DAYLIGHT
DTSTART:20250309T030000
TZOFFSETFROM:-0800
TZOFFSETTO:-0700
TZNAME:PDT
END:DAYLIGHT
END:VTIMEZONE
END:VCALENDAR