BEGIN:VCALENDAR
VERSION:2.0
PRODID:-//wp-events-plugin.com//7.2.3.1//EN
TZID:America/Los_Angeles
X-WR-TIMEZONE:America/Los_Angeles
BEGIN:VEVENT
UID:2850@parentingoc.guidoclients.com
DTSTART;TZID=America/Los_Angeles:20240809T194500
DTEND;TZID=America/Los_Angeles:20240809T213000
DTSTAMP:20240716T191919Z
URL:https://parentingoc.guidoclients.com/events/san-clementes-free-summer-
 fun-3/
SUMMARY:San Clemente’s Free Summer Fun
DESCRIPTION:August’s concerts start with Flock of 80s at the San Clemente
  Pier on the 8th. Linda Lane Park is the spot for August 15’s Wigs &amp\
 ; Ties show before music returns to the Pier August 22 with Common Sense. 
 Shows happen 6 pm-8 pm. Also\, Trolls Band Together is the Movie In The Pa
 rk August 9 at Forster Ranch Community Park. Seating opens at 6:30 pm and 
 the movie time is 7:45 pm.\n\nhttps://www.san-clemente.org/recreation-comm
 unity/special-events
CATEGORIES:Music, Theater &amp; Entertainment,Outdoors &amp; Animals
LOCATION:Forster Ranch Community Park\, 3207 Camino Vera Cruz\, San Clement
 e\, United States
X-APPLE-STRUCTURED-LOCATION;VALUE=URI;X-ADDRESS=3207 Camino Vera Cruz\, San
  Clemente\, United States;X-APPLE-RADIUS=100;X-TITLE=Forster Ranch Communi
 ty Park:geo:0,0
END:VEVENT
BEGIN:VTIMEZONE
TZID:America/Los_Angeles
X-LIC-LOCATION:America/Los_Angeles
BEGIN:DAYLIGHT
DTSTART:20240310T030000
TZOFFSETFROM:-0800
TZOFFSETTO:-0700
TZNAME:PDT
END:DAYLIGHT
END:VTIMEZONE
END:VCALENDAR