BEGIN:VCALENDAR
VERSION:2.0
PRODID:-//wp-events-plugin.com//7.2.3.1//EN
TZID:America/Los_Angeles
X-WR-TIMEZONE:America/Los_Angeles
BEGIN:VEVENT
UID:2174@parentingoc.guidoclients.com
DTSTART;TZID=America/Los_Angeles:20240501T090000
DTEND;TZID=America/Los_Angeles:20240505T180000
DTSTAMP:20240327T202216Z
URL:https://parentingoc.guidoclients.com/events/rogers-gardens-spring-cele
 bration-3/
SUMMARY:Roger’s Gardens’ Spring Celebration
DESCRIPTION:“Bring Nature Home” is the motto for this year’s Spring C
 elebration. And Roger’s Gardens makes it easy with this nature-packed ev
 ent\, which takes place daily through April 29. Weekends\, however\, conta
 in a variety of special attractions\, such as biophilic displays\, artisti
 c interpretations\, and other activities. Weekend themes include an Herb F
 estival (March 29-April 7) Rose Gardening (April 5-7)\, Wildlife &amp\; Ha
 bitat (April 12-14)\, Celebrating Earth Day (April 19-21) and Peppermania 
 (April 26-May 5).  \n\nhttps://www.rogersgardens.com/pages/spring-celebr
 ation
ATTACH;FMTTYPE=image/jpeg:https://parentingoc.guidoclients.com/wp-content/
 uploads/2024/03/Rogers-Gardens-Spring-Celebration_courtesy-Rogers-Gardens.
 jpg
CATEGORIES:Music, Theater &amp; Entertainment,Outdoors &amp; Animals
LOCATION:Roger’s Gardens\, 2301 San Joaquin Hills Rd.\, Corona del Mar\, 
 United States
X-APPLE-STRUCTURED-LOCATION;VALUE=URI;X-ADDRESS=2301 San Joaquin Hills Rd.\
 , Corona del Mar\, United States;X-APPLE-RADIUS=100;X-TITLE=Roger’s Gard
 ens:geo:0,0
END:VEVENT
BEGIN:VTIMEZONE
TZID:America/Los_Angeles
X-LIC-LOCATION:America/Los_Angeles
BEGIN:DAYLIGHT
DTSTART:20240310T030000
TZOFFSETFROM:-0800
TZOFFSETTO:-0700
TZNAME:PDT
END:DAYLIGHT
END:VTIMEZONE
END:VCALENDAR