BEGIN:VCALENDAR
VERSION:2.0
PRODID:-//wp-events-plugin.com//7.2.3.1//EN
TZID:America/Los_Angeles
X-WR-TIMEZONE:America/Los_Angeles
BEGIN:VEVENT
UID:4149@parentingoc.guidoclients.com
DTSTART;TZID=America/Los_Angeles;VALUE=DATE:20250917
DTEND;TZID=America/Los_Angeles;VALUE=DATE:20251001
DTSTAMP:20250917T175827Z
URL:https://parentingoc.guidoclients.com/events/rogers-gardens-halloween-b
 outique-2/
SUMMARY:Roger's Gardens' Halloween Boutique
DESCRIPTION:There is a tantalizing description for this year's boutique\, w
 hich is entitled "Midnight Market." Roger's Garden describes "Midnight Mar
 ket\," "As twilight falls\, the veil between seen and unseen lifts\, revea
 ling a mysterious after-dark bazaar." It is an immersive environment where
  you can encounter all sorts of Halloween decorations\, accessories and tr
 easures. The boutique should be open trough Halloween although prime exper
 ience with props and stock stays through mid-October.\n\nrogersgardens.com
ATTACH;FMTTYPE=image/jpeg:https://parentingoc.guidoclients.com/wp-content/
 uploads/2025/09/Rogers-Gardens-Photo-by-Jessica-Peralta-scaled.jpg
CATEGORIES:Featured,Halloween,Things To Do
END:VEVENT
BEGIN:VTIMEZONE
TZID:America/Los_Angeles
X-LIC-LOCATION:America/Los_Angeles
BEGIN:DAYLIGHT
DTSTART:20250309T030000
TZOFFSETFROM:-0800
TZOFFSETTO:-0700
TZNAME:PDT
END:DAYLIGHT
END:VTIMEZONE
END:VCALENDAR