BEGIN:VCALENDAR
VERSION:2.0
PRODID:-//wp-events-plugin.com//7.2.3.1//EN
TZID:America/Los_Angeles
X-WR-TIMEZONE:America/Los_Angeles
BEGIN:VEVENT
UID:4065@parentingoc.guidoclients.com
DTSTART;TZID=America/Los_Angeles:20250806T170000
DTEND;TZID=America/Los_Angeles:20250806T220000
DTSTAMP:20250708T204320Z
URL:https://parentingoc.guidoclients.com/events/queen-marys-movie-night-ma
 rket-2/
SUMMARY:Queen Mary's Movie Night Market
DESCRIPTION:The Queen Mary’s monthly movie series serves up a screening o
 f The Goonies on July 16. And then Ratatouille will be shown on August 6. 
 Both evenings\, which last approximately from 5 pm-10 pm\, also include a 
 Night Market that will feature live music\, local food vendors and pop-up 
 shops. Tickets can be purchased at https://www.queenmary.com/whatsondeck.a
 spx.\n\nhttps://www.queenmary.com/whatsondeck.asp \n\nhttps://www.queenma
 ry.com/whatsondeck.aspx
CATEGORIES:Food &amp; Drink,Music, Theater &amp; Entertainment
LOCATION:Queen Mary\, 1126 Queens Highway\, Long Beach \, United States
X-APPLE-STRUCTURED-LOCATION;VALUE=URI;X-ADDRESS=1126 Queens Highway\, Long 
 Beach \, United States;X-APPLE-RADIUS=100;X-TITLE=Queen Mary:geo:0,0
END:VEVENT
BEGIN:VTIMEZONE
TZID:America/Los_Angeles
X-LIC-LOCATION:America/Los_Angeles
BEGIN:DAYLIGHT
DTSTART:20250309T030000
TZOFFSETFROM:-0800
TZOFFSETTO:-0700
TZNAME:PDT
END:DAYLIGHT
END:VTIMEZONE
END:VCALENDAR