BEGIN:VCALENDAR
VERSION:2.0
PRODID:-//wp-events-plugin.com//7.2.3.1//EN
TZID:America/Los_Angeles
X-WR-TIMEZONE:America/Los_Angeles
BEGIN:VEVENT
UID:4174@parentingoc.guidoclients.com
DTSTART;TZID=America/Los_Angeles:20251001T123000
DTEND;TZID=America/Los_Angeles:20251031T220000
DTSTAMP:20251003T184202Z
URL:https://parentingoc.guidoclients.com/events/pumpkin-city-pumpkin-patch
 -3/
SUMMARY:Pumpkin City Pumpkin Patch
DESCRIPTION:Thousands of pumpkins will be residing at Pumpkin City. Stop by
  its Laguna Hills’ location (24203 Avenida de la Carlota) to pick one (o
 r more) for your home. This Patch also hosts all sorts of rides\, game boo
 ths\, and other attractions\, such as bounce houses\, a petting zoo\, perf
 ormances\, and food). Rides\, games &amp\; activities do require tickets. 
 Its hours in October are 12:30 pm-9 pm Mondays-Thursdays &amp\; 10 am-10 p
 m Fridays-Sundays.\n\nhttps://pumpkincity.com/pumpkin-farm/#pumpkinlocatio
 ns\n\n 
CATEGORIES:Food &amp; Drink,Kids,Music, Theater &amp;
 Entertainment,Outdoors &amp; Animals,Sports &amp; Games
LOCATION:Pumpkin City\, 24203 Avenida de la Carlota\, Laguna Hills\, CA\, U
 nited States
X-APPLE-STRUCTURED-LOCATION;VALUE=URI;X-ADDRESS=24203 Avenida de la Carlota
 \, Laguna Hills\, CA\, United States;X-APPLE-RADIUS=100;X-TITLE=Pumpkin Ci
 ty:geo:0,0
END:VEVENT
BEGIN:VTIMEZONE
TZID:America/Los_Angeles
X-LIC-LOCATION:America/Los_Angeles
BEGIN:DAYLIGHT
DTSTART:20250309T030000
TZOFFSETFROM:-0800
TZOFFSETTO:-0700
TZNAME:PDT
END:DAYLIGHT
END:VTIMEZONE
END:VCALENDAR