BEGIN:VCALENDAR
VERSION:2.0
PRODID:-//wp-events-plugin.com//7.2.3.1//EN
TZID:America/Los_Angeles
X-WR-TIMEZONE:America/Los_Angeles
BEGIN:VEVENT
UID:3510@parentingoc.guidoclients.com
DTSTART;TZID=America/Los_Angeles:20250125T110000
DTEND;TZID=America/Los_Angeles:20250126T120000
DTSTAMP:20241218T214052Z
URL:https://parentingoc.guidoclients.com/events/pretend-citys-lunar-new-ye
 ar-celebrations-2/
SUMMARY:Pretend City’s Lunar New Year Celebrations
DESCRIPTION:The Museum’s celebrations start on January 19 when it welcome
 s author Nithin Jillia\, who will present colorful New Year’s traditions
  and stories at 11 am and 2:30 pm. More holiday fun can be enjoyed over th
 e weekend of January 25-26. At 11 am both days\, Kishin Daiko Drummers wil
 l give a rhythmic performance including Japanese percussive-style drumming
 \, and adaptations of traditional Japanese taiko pieces. Plus\, there will
  be other holiday-related activities as well. \nhttps://www.pretendcity.o
 rg/event/month/2025-01/
CATEGORIES:Holiday,Museums &amp; Art
LOCATION:Pretend City Children's Museum\, 29 Hubble\, Irvine\, United State
 s
X-APPLE-STRUCTURED-LOCATION;VALUE=URI;X-ADDRESS=29 Hubble\, Irvine\, United
  States;X-APPLE-RADIUS=100;X-TITLE=Pretend City Children's Museum:geo:0,0
END:VEVENT
BEGIN:VTIMEZONE
TZID:America/Los_Angeles
X-LIC-LOCATION:America/Los_Angeles
BEGIN:STANDARD
DTSTART:20241103T010000
TZOFFSETFROM:-0700
TZOFFSETTO:-0800
TZNAME:PST
END:STANDARD
END:VTIMEZONE
END:VCALENDAR