BEGIN:VCALENDAR
VERSION:2.0
PRODID:-//wp-events-plugin.com//7.2.3.1//EN
TZID:America/Los_Angeles
X-WR-TIMEZONE:America/Los_Angeles
BEGIN:VEVENT
UID:4003@parentingoc.guidoclients.com
DTSTART;TZID=America/Los_Angeles:20250703T110000
DTEND;TZID=America/Los_Angeles:20250703T150000
DTSTAMP:20250625T193141Z
URL:https://parentingoc.guidoclients.com/events/pretend-citys-4th-of-july-
 celebration-2/
SUMMARY:Pretend City’s 4th of July Celebration
DESCRIPTION:While the event’s name is “4th of July Celebration”\, the
  children’s museum is presenting its Independence Day party on July 3. F
 amilies are invited to come on down to Pretend City the day before the off
 icial holiday and enjoy a big day filled with Fourth of July-themed attrac
 tions\, creativities\, and patriotic fun. Activities are scheduled to happ
 en at 11 am and 2:30 pm.\n\nhttps://www.pretendcity.org/events/4th-of-july
 -celebration-3/
CATEGORIES:4th Of July,Arts &amp; Crafts,Holiday,Music, Theater &amp;
 Entertainment,Sports &amp; Games
LOCATION:Pretend City Children's Museum\, 29 Hubble\, Irvine\, United State
 s
X-APPLE-STRUCTURED-LOCATION;VALUE=URI;X-ADDRESS=29 Hubble\, Irvine\, United
  States;X-APPLE-RADIUS=100;X-TITLE=Pretend City Children's Museum:geo:0,0
END:VEVENT
BEGIN:VTIMEZONE
TZID:America/Los_Angeles
X-LIC-LOCATION:America/Los_Angeles
BEGIN:DAYLIGHT
DTSTART:20250309T030000
TZOFFSETFROM:-0800
TZOFFSETTO:-0700
TZNAME:PDT
END:DAYLIGHT
END:VTIMEZONE
END:VCALENDAR