BEGIN:VCALENDAR
VERSION:2.0
PRODID:-//wp-events-plugin.com//7.2.3.1//EN
TZID:America/Los_Angeles
X-WR-TIMEZONE:America/Los_Angeles
BEGIN:VEVENT
UID:3844@parentingoc.guidoclients.com
DTSTART;TZID=America/Los_Angeles:20250502T000000
DTEND;TZID=America/Los_Angeles:20250530T000000
DTSTAMP:20250501T214614Z
URL:https://parentingoc.guidoclients.com/events/play-parties-special-guest
 -playtimes/
SUMMARY:PLAY & PARTIES: SPECIAL GUEST PLAYTIMES
DESCRIPTION:IMAGINE…..an interactive singing\, dancing fun class\, but le
 d by your favorite characters! Well\, that is SPECIAL GUEST PLAYTIME!\nFun
  &amp\; fuzzy friends like Paw Patrol\, Bluey\, Baby Shark &amp\; so many 
 more come to our store each week for a "Special Guest Playtime". We will p
 lay parachute games\, have a sing-a-long &amp\; do a fun coloring project.
  There is always time for photos and a chance for your child to get to kno
 w our special friends! Don’t wait in line at a theme park\, come play wi
 th us right here at Play &amp\; Parties. Recommended Ages 2 to 6 \nwww.pl
 ayandparties.com
ATTACH;FMTTYPE=image/jpeg:https://parentingoc.guidoclients.com/wp-content/
 uploads/2025/04/UTF-8IMG_4479-scaled.jpg
CATEGORIES:Featured,Kids,Music, Theater &amp; Entertainment
LOCATION:Play & Parties\, 1901 N Tustin St\, Orange \, United States
X-APPLE-STRUCTURED-LOCATION;VALUE=URI;X-ADDRESS=1901 N Tustin St\, Orange \
 , United States;X-APPLE-RADIUS=100;X-TITLE=Play & Parties:geo:0,0
END:VEVENT
BEGIN:VTIMEZONE
TZID:America/Los_Angeles
X-LIC-LOCATION:America/Los_Angeles
BEGIN:DAYLIGHT
DTSTART:20250309T030000
TZOFFSETFROM:-0800
TZOFFSETTO:-0700
TZNAME:PDT
END:DAYLIGHT
END:VTIMEZONE
END:VCALENDAR