BEGIN:VCALENDAR
VERSION:2.0
PRODID:-//wp-events-plugin.com//7.2.3.1//EN
TZID:America/Los_Angeles
X-WR-TIMEZONE:America/Los_Angeles
BEGIN:VEVENT
UID:4053@parentingoc.guidoclients.com
DTSTART;TZID=America/Los_Angeles:20250708T203000
DTEND;TZID=America/Los_Angeles:20250731T223000
DTSTAMP:20250716T221452Z
URL:https://parentingoc.guidoclients.com/events/pageant-of-the-masters-3/
SUMMARY:Pageant of the Masters 
DESCRIPTION:This Festival of Arts’ popular Pageant is a one-of-a-kind the
 atrical experience where paintings are literally brought to life on stage.
  This year’s production\, “Gold Coast: Treasures of California\,” pr
 ovides a unique perspective on the Golden State’s artistic legacy. The M
 asters’ living tableaus will re-create several iconic artworks and landm
 arks from Northern California’s most prized collections. Performances ar
 e at 8:30 pm July 5-August 29. Ages 4 and up. Reservations are highly reco
 mmended and available at https://foapom.evenue.net/events/EVENTS\n\nhttps:
 //www.foapom.com/pageant-of-the-masters/\n\nhttps://foapom.evenue.net/even
 ts/EVENTS\n\n&nbsp\;\n\n&nbsp\;
ATTACH;FMTTYPE=image/jpeg:https://parentingoc.guidoclients.com/wp-content/
 uploads/2025/07/Pageant-of-the-Masters_courtesy-Festival-of-Arts.web_.2.jp
 g
CATEGORIES:Fairs &amp; Festivals,Museums &amp; Art,Music, Theater &amp;
 Entertainment,Things To Do
LOCATION:650 Laguna Canyon Road\, 650 Laguna Canyon Road \, Laguna Beach\, 
 United States
X-APPLE-STRUCTURED-LOCATION;VALUE=URI;X-ADDRESS=650 Laguna Canyon Road \, L
 aguna Beach\, United States;X-APPLE-RADIUS=100;X-TITLE=650 Laguna Canyon R
 oad:geo:0,0
END:VEVENT
BEGIN:VTIMEZONE
TZID:America/Los_Angeles
X-LIC-LOCATION:America/Los_Angeles
BEGIN:DAYLIGHT
DTSTART:20250309T030000
TZOFFSETFROM:-0800
TZOFFSETTO:-0700
TZNAME:PDT
END:DAYLIGHT
END:VTIMEZONE
END:VCALENDAR