BEGIN:VCALENDAR
VERSION:2.0
PRODID:-//wp-events-plugin.com//7.2.3.1//EN
TZID:America/Los_Angeles
X-WR-TIMEZONE:America/Los_Angeles
BEGIN:VEVENT
UID:3921@parentingoc.guidoclients.com
DTSTART;TZID=America/Los_Angeles:20250518T130000
DTEND;TZID=America/Los_Angeles:20250520T210000
DTSTAMP:20250423T172826Z
URL:https://parentingoc.guidoclients.com/events/pacific-symphonys-youth-en
 sembles-showcases/
SUMMARY:Pacific Symphony’s Youth Ensembles Showcases
DESCRIPTION:Segerstrom Concerts Hall hosts a quartet of Pacific Symphony Yo
 uth Ensembles’ Season Finales. On May 18\, the Pacific Symphony Santiago
  Strings presents their “Beyond Boundaries\,” at 1 pm\, while PS’s Y
 outh Concert Band performs their “Of Valor &amp\; Honor” at 7 pm. The 
 Youth Wind Ensemble’s “People &amp\; Places” program happens at 7 pm
  May 19 and the Youth Orchestra performs “Monuments” at 7 pm May 20. S
 ecure free tickets at https://www.pacificsymphony.org/calendar-with-series
 /.\n\n&nbsp\;
ATTACH;FMTTYPE=image/jpeg:https://parentingoc.guidoclients.com/wp-content/
 uploads/2025/04/Eieu4JFQ.jpg
CATEGORIES:Music, Theater &amp; Entertainment
LOCATION:600 Town Center Drive\, 600 Town Center Drive\, Costa Mesa\, Unite
 d States
X-APPLE-STRUCTURED-LOCATION;VALUE=URI;X-ADDRESS=600 Town Center Drive\, Cos
 ta Mesa\, United States;X-APPLE-RADIUS=100;X-TITLE=600 Town Center Drive:g
 eo:0,0
END:VEVENT
BEGIN:VTIMEZONE
TZID:America/Los_Angeles
X-LIC-LOCATION:America/Los_Angeles
BEGIN:DAYLIGHT
DTSTART:20250309T030000
TZOFFSETFROM:-0800
TZOFFSETTO:-0700
TZNAME:PDT
END:DAYLIGHT
END:VTIMEZONE
END:VCALENDAR