BEGIN:VCALENDAR
VERSION:2.0
PRODID:-//wp-events-plugin.com//7.2.3.1//EN
TZID:America/Los_Angeles
X-WR-TIMEZONE:America/Los_Angeles
BEGIN:VEVENT
UID:4083@parentingoc.guidoclients.com
DTSTART;TZID=America/Los_Angeles:20250710T093000
DTEND;TZID=America/Los_Angeles:20250731T103000
DTSTAMP:20250716T220846Z
URL:https://parentingoc.guidoclients.com/events/ocean-institutes-children-
 programs/
SUMMARY:Ocean Institute’s Children Programs
DESCRIPTION:OI's Tiny Tots programs (9:30 am-10:30 am) about sharks happen 
 July 7\, 10\, 14 &amp\; 17 and Tidepool Pals on July 21\, 24\, 28 &amp\; 3
 1. Register at https://oceaninstitute.org/series/tiny-tots/. \n\nhttps://o
 ceaninstitute.org
ATTACH;FMTTYPE=image/jpeg:https://parentingoc.guidoclients.com/wp-content/
 uploads/2025/07/Ocean-Institutes-Children-Programs_courtesy-Ocean-Institut
 e.web-1.jpg
CATEGORIES:Babies &amp; Toddlers,Education &amp; Workshops,Kids,Museums
 &amp; Art
LOCATION:Ocean Institute\, 24200 Dana Point Harbor Dr.\, Dana Point\, Unite
 d States
X-APPLE-STRUCTURED-LOCATION;VALUE=URI;X-ADDRESS=24200 Dana Point Harbor Dr.
 \, Dana Point\, United States;X-APPLE-RADIUS=100;X-TITLE=Ocean Institute:g
 eo:0,0
END:VEVENT
BEGIN:VTIMEZONE
TZID:America/Los_Angeles
X-LIC-LOCATION:America/Los_Angeles
BEGIN:DAYLIGHT
DTSTART:20250309T030000
TZOFFSETFROM:-0800
TZOFFSETTO:-0700
TZNAME:PDT
END:DAYLIGHT
END:VTIMEZONE
END:VCALENDAR