BEGIN:VCALENDAR
VERSION:2.0
PRODID:-//wp-events-plugin.com//7.2.3.1//EN
TZID:America/Los_Angeles
X-WR-TIMEZONE:America/Los_Angeles
BEGIN:VEVENT
UID:2947@parentingoc.guidoclients.com
DTSTART;TZID=America/Los_Angeles:20240821T101500
DTEND;TZID=America/Los_Angeles:20240821T111500
DTSTAMP:20240723T212550Z
URL:https://parentingoc.guidoclients.com/events/oc-zoo-educational-program
 s-3/
SUMMARY:OC Zoo Educational Programs
DESCRIPTION:Preschoolers (ages 3-4) can learn about creatures living “und
 er the sea” on August 2\, animals in their own backyards on August 9\, a
 nd what animals like to eat on August 21. These classes (all happening 10:
 15 am-11:15 am) include hands-on learning\, crafts\, and zoo animal encoun
 ters. A parent must accompany a child. Kids (ages 5-10) can do a Wildlife 
 Explorer class on August 7 &amp\; 14 (10:30 am-11:45 am). Call 714-973-684
 6 for required registration.\n\nhttps://www.ocparks.com/events/
ATTACH;FMTTYPE=image/jpeg:https://parentingoc.guidoclients.com/wp-content/
 uploads/2024/04/OC-Zoo-Preschool-program_courtesy-OC-Zoo.general.web_-1.jp
 g
CATEGORIES:Education &amp; Workshops,Outdoors &amp; Animals
LOCATION:OC Zoo\, 1 Irvine Park Road\, Orange\, United States
X-APPLE-STRUCTURED-LOCATION;VALUE=URI;X-ADDRESS=1 Irvine Park Road\, Orange
 \, United States;X-APPLE-RADIUS=100;X-TITLE=OC Zoo:geo:0,0
END:VEVENT
BEGIN:VTIMEZONE
TZID:America/Los_Angeles
X-LIC-LOCATION:America/Los_Angeles
BEGIN:DAYLIGHT
DTSTART:20240310T030000
TZOFFSETFROM:-0800
TZOFFSETTO:-0700
TZNAME:PDT
END:DAYLIGHT
END:VTIMEZONE
END:VCALENDAR