BEGIN:VCALENDAR
VERSION:2.0
PRODID:-//wp-events-plugin.com//7.2.3.1//EN
TZID:America/Los_Angeles
X-WR-TIMEZONE:America/Los_Angeles
BEGIN:VEVENT
UID:2593@parentingoc.guidoclients.com
DTSTART;TZID=America/Los_Angeles:20240712T180000
DTEND;TZID=America/Los_Angeles:20240712T220000
DTSTAMP:20240703T144724Z
URL:https://parentingoc.guidoclients.com/events/oc-parks-sunset-cinema-9/
SUMMARY:OC Parks Sunset Cinema
DESCRIPTION:This Friday evening film series takes the Independence Day week
 end off but returns on July 12 with Trolls Band Together at Irvine’s Mas
 on Regional Park. Anaheim’s Yorba Regional Park goes pink with a screeni
 ng of Barbie on July 19 and revs up the action with the Nicolas Cage flick
  National Treasure on July 26. Pre-screening activities start at 6 pm with
  the movies rolling at sundown (around 8 pm). The series continues through
  August 30.\n\nhttps://www.ocparks.com/news/oc-parks-presents-2024-summer-
 concert-series-and-sunset-cinema-film-series
ATTACH;FMTTYPE=image/jpeg:https://parentingoc.guidoclients.com/wp-content/
 uploads/2024/07/OC-Parks-Sunset-Cinema_courtesy-OC-Parks.Mason-Regional-Pa
 rk.jpg
CATEGORIES:Music, Theater &amp; Entertainment,Outdoors &amp; Animals
LOCATION:Mason Regional Park\, 18712 University Drive\, Irvine \, United St
 ates
X-APPLE-STRUCTURED-LOCATION;VALUE=URI;X-ADDRESS=18712 University Drive\, Ir
 vine \, United States;X-APPLE-RADIUS=100;X-TITLE=Mason Regional Park:geo:0
 ,0
END:VEVENT
BEGIN:VTIMEZONE
TZID:America/Los_Angeles
X-LIC-LOCATION:America/Los_Angeles
BEGIN:DAYLIGHT
DTSTART:20240310T030000
TZOFFSETFROM:-0800
TZOFFSETTO:-0700
TZNAME:PDT
END:DAYLIGHT
END:VTIMEZONE
END:VCALENDAR