BEGIN:VCALENDAR
VERSION:2.0
PRODID:-//wp-events-plugin.com//7.2.3.1//EN
TZID:America/Los_Angeles
X-WR-TIMEZONE:America/Los_Angeles
BEGIN:VEVENT
UID:4101@parentingoc.guidoclients.com
DTSTART;TZID=America/Los_Angeles:20250814T180000
DTEND;TZID=America/Los_Angeles:20250821T220000
DTSTAMP:20250715T190956Z
URL:https://parentingoc.guidoclients.com/events/oc-parks-summer-concert-se
 ries-18/
SUMMARY:OC Parks Summer Concert Series 
DESCRIPTION:August’s lineup starts off with Elton The Early Years at Oran
 ge’s Irvine Regional Park on August 7. You can then experience “The Ul
 timate Tribute to No Doubt” on August 14 when No Duh plays Bluff Park at
  Dana Point’s Salt Creek Beach\, with the Boy Band Review singing in Blu
 ff Park for the series’ concluding show on August 21. Activities begin a
 t 5 pm with the live music at 6 pm. \n\nhttps://www.ocparks.com/news/oc-p
 arks-presents-2025-summer-concert-series-and-sunset-cinema-film-series
ATTACH;FMTTYPE=image/jpeg:https://parentingoc.guidoclients.com/wp-content/
 uploads/2025/07/OC-Parks-Summer-Concert-Series_2025_Mile-Square-Regional-P
 ark_Courtesy-of-OC-Parks-1-scaled.jpg
CATEGORIES:Food &amp; Drink,Free,Music, Theater &amp; Entertainment
LOCATION:Bluff Park at Salt Creek Beach\, 33333 S. Pacific Coast Hwy. \, Da
 na Point\, CA\, United States
X-APPLE-STRUCTURED-LOCATION;VALUE=URI;X-ADDRESS=33333 S. Pacific Coast Hwy.
  \, Dana Point\, CA\, United States;X-APPLE-RADIUS=100;X-TITLE=Bluff Park 
 at Salt Creek Beach:geo:0,0
END:VEVENT
BEGIN:VTIMEZONE
TZID:America/Los_Angeles
X-LIC-LOCATION:America/Los_Angeles
BEGIN:DAYLIGHT
DTSTART:20250309T030000
TZOFFSETFROM:-0800
TZOFFSETTO:-0700
TZNAME:PDT
END:DAYLIGHT
END:VTIMEZONE
END:VCALENDAR