BEGIN:VCALENDAR
VERSION:2.0
PRODID:-//wp-events-plugin.com//7.2.3.1//EN
TZID:America/Los_Angeles
X-WR-TIMEZONE:America/Los_Angeles
BEGIN:VEVENT
UID:2813@parentingoc.guidoclients.com
DTSTART;TZID=America/Los_Angeles:20240822T170000
DTEND;TZID=America/Los_Angeles:20240822T200000
DTSTAMP:20240716T175028Z
URL:https://parentingoc.guidoclients.com/events/oc-parks-summer-concert-se
 ries-13/
SUMMARY:OC Parks Summer Concert Series 
DESCRIPTION:This popular series begins the month at Miles Square Regional P
 ark with a performance by the dynamic Ozomatli on August 1\, and then thin
 gs will swing August 8 with Big Bad Voodoo Daddy. Bluff Park at Salt Creek
  Beach hosts the summer’s final two concerts: The FABBA Show happens Aug
 ust 15 and Jimmy’s Buffet plays August 22. All concerts run from 5 pm-8 
 pm.\n\nhttps://www.ocparks.com/news/oc-parks-presents-2024-summer-concert-
 series-and-sunset-cinema-film-series
ATTACH;FMTTYPE=image/jpeg:https://parentingoc.guidoclients.com/wp-content/
 uploads/2024/07/OC-Parks-Summer-Concert-Series_courtesy-of-OC-Parks-1.jpg
CATEGORIES:Music, Theater &amp; Entertainment,Outdoors &amp; Animals
LOCATION:Bluff Park at Salt Creek Beach\, 33333 S. Pacific Coast Hwy. \, Da
 na Point\, CA\, United States
X-APPLE-STRUCTURED-LOCATION;VALUE=URI;X-ADDRESS=33333 S. Pacific Coast Hwy.
  \, Dana Point\, CA\, United States;X-APPLE-RADIUS=100;X-TITLE=Bluff Park 
 at Salt Creek Beach:geo:0,0
END:VEVENT
BEGIN:VTIMEZONE
TZID:America/Los_Angeles
X-LIC-LOCATION:America/Los_Angeles
BEGIN:DAYLIGHT
DTSTART:20240310T030000
TZOFFSETFROM:-0800
TZOFFSETTO:-0700
TZNAME:PDT
END:DAYLIGHT
END:VTIMEZONE
END:VCALENDAR