BEGIN:VCALENDAR
VERSION:2.0
PRODID:-//wp-events-plugin.com//7.2.3.1//EN
TZID:America/Los_Angeles
X-WR-TIMEZONE:America/Los_Angeles
BEGIN:VEVENT
UID:4152@parentingoc.guidoclients.com
DTSTART;TZID=America/Los_Angeles:20251002T160000
DTEND;TZID=America/Los_Angeles:20251031T190000
DTSTAMP:20251007T204659Z
URL:https://parentingoc.guidoclients.com/events/oc-fair-pumpkin-patch-21/
SUMMARY:OC Fair Pumpkin Patch
DESCRIPTION:Seasonal Adventures returns to OC Fairground’s Lot C to stage
  its sensational pumpkin patch that comes packed with all types of pumpkin
 s and gourds. Other “seasonal adventures” include a petting zoo\, kidd
 ie rides\, obstacle courses\, bounce houses\, a train\, and inflatables. T
 he Patch is open October 2-31 on 4 pm-9 pm Mondays-Thursdays\, 4 pm-10 pm 
 Fridays\, 11 am-10 pm Saturdays and 11 am-9 pm Sundays – although it clo
 ses at 7 pm on Halloween. \n\nhttps://ocfair.com/event/seasonal-adventure
 s-pumpkin-patch-2/
ATTACH;FMTTYPE=image/jpeg:https://parentingoc.guidoclients.com/wp-content/
 uploads/2025/10/Courtesy-of-OC-Fair-Event-Center-scaled.jpg
CATEGORIES:Fairs &amp; Festivals,Food &amp; Drink,Halloween,Kids,Sports
 &amp; Games,Things To Do
LOCATION:OC Fairgrounds\, 88 Fair Drive\, Costa Mesa\, United States
X-APPLE-STRUCTURED-LOCATION;VALUE=URI;X-ADDRESS=88 Fair Drive\, Costa Mesa\
 , United States;X-APPLE-RADIUS=100;X-TITLE=OC Fairgrounds:geo:0,0
END:VEVENT
BEGIN:VTIMEZONE
TZID:America/Los_Angeles
X-LIC-LOCATION:America/Los_Angeles
BEGIN:DAYLIGHT
DTSTART:20250309T030000
TZOFFSETFROM:-0800
TZOFFSETTO:-0700
TZNAME:PDT
END:DAYLIGHT
END:VTIMEZONE
END:VCALENDAR