BEGIN:VCALENDAR
VERSION:2.0
PRODID:-//wp-events-plugin.com//7.2.3.1//EN
TZID:America/Los_Angeles
X-WR-TIMEZONE:America/Los_Angeles
BEGIN:VEVENT
UID:4075@parentingoc.guidoclients.com
DTSTART;TZID=America/Los_Angeles:20250801T110000
DTEND;TZID=America/Los_Angeles:20250817T230000
DTSTAMP:20250806T195737Z
URL:https://parentingoc.guidoclients.com/events/oc-fair-5/
SUMMARY:OC Fair
DESCRIPTION:“Find Your Happy” at this year’s OC Fair – at least on 
 Wednesdays-Sundays July 18-August 17. You’ll get happy with a big select
 ion of carnival games and rides\, including a new family rollercoaster\, t
 he debut of a fourth Ferris Wheel\, and something called “The Aviator”
 . Also\, you can enjoy special exhibits\, concerts\, and other entertainme
 nt\, like demolition derbies\, and Mowterized Mayhem in the Action Sports 
 Arena. Hours are 11 am-11 pm Wednesdays-Thursdays\, Sundays and 11 am-12 a
 m Fridays-Saturdays.\n\nhttps://ocfair.com/oc-fair \n\nhttps://ocfair.com
 /oc-fair/admission\n\n&nbsp\;
ATTACH;FMTTYPE=image/jpeg:https://parentingoc.guidoclients.com/wp-content/
 uploads/2025/07/OC-Fair_courtesy-OC-Fair.web_.jpg
CATEGORIES:Amusement Parks,Fairs &amp; Festivals,Featured,Food &amp;
 Drink,Music, Theater &amp; Entertainment,Sports &amp; Games,Things To Do
LOCATION:88 Fair Drive\, 88 Fair Drive\, Costa Mesa\, United States
X-APPLE-STRUCTURED-LOCATION;VALUE=URI;X-ADDRESS=88 Fair Drive\, Costa Mesa\
 , United States;X-APPLE-RADIUS=100;X-TITLE=88 Fair Drive:geo:0,0
END:VEVENT
BEGIN:VTIMEZONE
TZID:America/Los_Angeles
X-LIC-LOCATION:America/Los_Angeles
BEGIN:DAYLIGHT
DTSTART:20250309T030000
TZOFFSETFROM:-0800
TZOFFSETTO:-0700
TZNAME:PDT
END:DAYLIGHT
END:VTIMEZONE
END:VCALENDAR