BEGIN:VCALENDAR
VERSION:2.0
PRODID:-//wp-events-plugin.com//7.2.3.1//EN
TZID:America/Los_Angeles
X-WR-TIMEZONE:America/Los_Angeles
BEGIN:VEVENT
UID:4151@parentingoc.guidoclients.com
DTSTART;TZID=America/Los_Angeles:20251025T150000
DTEND;TZID=America/Los_Angeles:20251025T180000
DTSTAMP:20251003T171640Z
URL:https://parentingoc.guidoclients.com/events/newport-beachs-8th-annual-
 halloween-spooktacular/
SUMMARY:Newport Beach’s 8th Annual Halloween Spooktacular
DESCRIPTION:Mariners Park will be awash with Halloween merriment on October
  25 between 3 pm-6 pm. The afternoon’s free activities feature a trunk-o
 r-treat area\, a haunted walkthrough\, carnival games\, bounce houses\, an
 d pumpkin decorating. There’ll also be a DJ\, music\, and food trucks. A
  costume contest offers prizes for individuals (spookiest\, funniest\, and
  best superhero)\, groups (best duo and family/group) and canines. \n\n&n
 bsp\;\n\nhttps://www.newportbeachca.gov/Home/Components/Calendar/Event/789
 86/72?curm=10&amp\;cury=2025
CATEGORIES:Arts &amp; Crafts,Food &amp; Drink,Halloween,Kids,Music,
 Theater &amp; Entertainment,Sports &amp; Games
LOCATION:Mariners Park\, 1300 Irvine Avenue\, Newport Beach\, CA\, United S
 tates
X-APPLE-STRUCTURED-LOCATION;VALUE=URI;X-ADDRESS=1300 Irvine Avenue\, Newpor
 t Beach\, CA\, United States;X-APPLE-RADIUS=100;X-TITLE=Mariners Park:geo:
 0,0
END:VEVENT
BEGIN:VTIMEZONE
TZID:America/Los_Angeles
X-LIC-LOCATION:America/Los_Angeles
BEGIN:DAYLIGHT
DTSTART:20250309T030000
TZOFFSETFROM:-0800
TZOFFSETTO:-0700
TZNAME:PDT
END:DAYLIGHT
END:VTIMEZONE
END:VCALENDAR