BEGIN:VCALENDAR
VERSION:2.0
PRODID:-//wp-events-plugin.com//7.2.3.1//EN
TZID:America/Los_Angeles
X-WR-TIMEZONE:America/Los_Angeles
BEGIN:VEVENT
UID:4081@parentingoc.guidoclients.com
DTSTART;TZID=America/Los_Angeles:20250720T110000
DTEND;TZID=America/Los_Angeles:20250720T120000
DTSTAMP:20250716T221233Z
URL:https://parentingoc.guidoclients.com/events/mythical-clay-creatures-wo
 rkshop/
SUMMARY:Mythical Clay Creatures Workshop
DESCRIPTION:On July 20\, families can be inspired by a fantastical animal-s
 haped vessel in the World of the Terracotta Warriors exhibition to create 
 their own clay creature. Artist Erna van Dyk will lead this workshop that 
 will be held in the John M. Lee Court from 11 am-12 pm. Tickets can be pur
 chased at https://buy.acmeticketing.com/orders/311/tickets?eventId=682fc52
 cae5bc14dc91588b0&amp\;cdEventIds=682fc52cae5bc14dc91588b0&amp\;date=2025-
 07-20T11:00:00-07:00 /. This class is okay for ages 4 and older (with adul
 t supervision). \n\nhttps://bowers.org/index.php/programs/family-programs
 /mythical-clay-creatures-with-erna-van-dyk
ATTACH;FMTTYPE=image/jpeg:https://parentingoc.guidoclients.com/wp-content/
 uploads/2025/07/mythical_clay_creature_workshop_courtesy-Bowers-Museum.jpg
CATEGORIES:Arts &amp; Crafts,Museums &amp; Art
LOCATION:Bowers Museum\, 2002 North Main Street\, Santa Ana\, United States
X-APPLE-STRUCTURED-LOCATION;VALUE=URI;X-ADDRESS=2002 North Main Street\, Sa
 nta Ana\, United States;X-APPLE-RADIUS=100;X-TITLE=Bowers Museum:geo:0,0
END:VEVENT
BEGIN:VTIMEZONE
TZID:America/Los_Angeles
X-LIC-LOCATION:America/Los_Angeles
BEGIN:DAYLIGHT
DTSTART:20250309T030000
TZOFFSETFROM:-0800
TZOFFSETTO:-0700
TZNAME:PDT
END:DAYLIGHT
END:VTIMEZONE
END:VCALENDAR