BEGIN:VCALENDAR
VERSION:2.0
PRODID:-//wp-events-plugin.com//7.2.3.1//EN
TZID:America/Los_Angeles
X-WR-TIMEZONE:America/Los_Angeles
BEGIN:VEVENT
UID:4094@parentingoc.guidoclients.com
DTSTART;TZID=America/Los_Angeles:20250720T170000
DTEND;TZID=America/Los_Angeles:20250727T190000
DTSTAMP:20250715T184924Z
URL:https://parentingoc.guidoclients.com/events/music-in-bluebird-park-9/
SUMMARY:Music In Bluebird Park
DESCRIPTION:Laguna Beach’s Bluebird Park is packed with fantastic music o
 n Sundays (starting at 5 pm). Party Foul performs July 6\, followed by the
  Shawn Jones Band (July 13)\, Cubensis (July 20)\, and TD Lind and the Avi
 ators (July 27). August kicks off with Rocky Dawuni on the 3rd. ABBA LA pe
 rforms on August 10\, while The Great North Special plays on closing night
  (August 17). Find guidelines at https://www.lagunabeachcity.net/governmen
 t/departments/cultural-arts/performances/concerts-in-the-park#ad-image-11/
 .
CATEGORIES:Free,Music, Theater &amp; Entertainment
LOCATION:Bluebird Park\, 772 Cress Street  \, Laguna Beach \, United States
X-APPLE-STRUCTURED-LOCATION;VALUE=URI;X-ADDRESS=772 Cress Street  \, Laguna
  Beach \, United States;X-APPLE-RADIUS=100;X-TITLE=Bluebird Park:geo:0,0
END:VEVENT
BEGIN:VTIMEZONE
TZID:America/Los_Angeles
X-LIC-LOCATION:America/Los_Angeles
BEGIN:DAYLIGHT
DTSTART:20250309T030000
TZOFFSETFROM:-0800
TZOFFSETTO:-0700
TZNAME:PDT
END:DAYLIGHT
END:VTIMEZONE
END:VCALENDAR