BEGIN:VCALENDAR
VERSION:2.0
PRODID:-//wp-events-plugin.com//7.2.3.1//EN
TZID:America/Los_Angeles
X-WR-TIMEZONE:America/Los_Angeles
BEGIN:VEVENT
UID:4046@parentingoc.guidoclients.com
DTSTART;TZID=America/Los_Angeles:20250714T180000
DTEND;TZID=America/Los_Angeles:20250728T220000
DTSTAMP:20250716T221118Z
URL:https://parentingoc.guidoclients.com/events/movie-mondays-6/
SUMMARY:Movie Mondays
DESCRIPTION:Summertime means movies on Monday evenings again in Argyros Pla
 za. This year’s lineup features Coco (July 7)\, Crazy Rich Asians (July 
 14)\, A League of their Own (July 21)\, The Princess Diaries (July 28)\, a
 nd In the Heights (August 4). Parents note that Crazy Rich Asians and In t
 he Heights are rated PG-13. Guests can arrive beginning at 5:30 pm. Pre-sh
 ow activities are available from 6 pm–7:30 pm and screenings commence ar
 ound 8 pm.  \n\nhttps://scfta.org/shows-events/movie-Mondays
ATTACH;FMTTYPE=image/jpeg:https://parentingoc.guidoclients.com/wp-content/
 uploads/2025/07/Movie-Mondays_photo-by-Stan-Sholik.web_-scaled.jpg
CATEGORIES:Music, Theater &amp; Entertainment
LOCATION:Argyros Plaza\, 600 Town Center Drive \, Costa Mesa\, CA\, United 
 States
X-APPLE-STRUCTURED-LOCATION;VALUE=URI;X-ADDRESS=600 Town Center Drive \, Co
 sta Mesa\, CA\, United States;X-APPLE-RADIUS=100;X-TITLE=Argyros Plaza:geo
 :0,0
END:VEVENT
BEGIN:VTIMEZONE
TZID:America/Los_Angeles
X-LIC-LOCATION:America/Los_Angeles
BEGIN:DAYLIGHT
DTSTART:20250309T030000
TZOFFSETFROM:-0800
TZOFFSETTO:-0700
TZNAME:PDT
END:DAYLIGHT
END:VTIMEZONE
END:VCALENDAR