BEGIN:VCALENDAR
VERSION:2.0
PRODID:-//wp-events-plugin.com//7.2.3.1//EN
TZID:America/Los_Angeles
X-WR-TIMEZONE:America/Los_Angeles
BEGIN:VEVENT
UID:2574@parentingoc.guidoclients.com
DTSTART;TZID=America/Los_Angeles:20240712T200000
DTEND;TZID=America/Los_Angeles:20240712T220000
DTSTAMP:20240703T141214Z
URL:https://parentingoc.guidoclients.com/events/movie-in-mariners-park/
SUMMARY:Movie in Mariners Park
DESCRIPTION:Newport Beach welcomes families and friends to Mariners Park on
  July 12 for a free screening of Kung Fu Panda 4. Not only is the screenin
 g free\, but the evening will also include free popcorn and candy (while s
 upplies last) and free activities. The event starts at sunset\, around 8:1
 5 p.m. It’s suggested that folks bring a chair\, blanket\, or towel for 
 comfy viewing.\n\nhttps://www.newportbeachca.gov/Home/Components/Calendar/
 Event/74983/72?curm=7&amp\;cury=2024\n\n&nbsp\;
CATEGORIES:Music, Theater &amp; Entertainment,Outdoors &amp; Animals
LOCATION:Mariners Park\, 1300 Irvine Avenue\, Newport Beach\, CA\, United S
 tates
X-APPLE-STRUCTURED-LOCATION;VALUE=URI;X-ADDRESS=1300 Irvine Avenue\, Newpor
 t Beach\, CA\, United States;X-APPLE-RADIUS=100;X-TITLE=Mariners Park:geo:
 0,0
END:VEVENT
BEGIN:VTIMEZONE
TZID:America/Los_Angeles
X-LIC-LOCATION:America/Los_Angeles
BEGIN:DAYLIGHT
DTSTART:20240310T030000
TZOFFSETFROM:-0800
TZOFFSETTO:-0700
TZNAME:PDT
END:DAYLIGHT
END:VTIMEZONE
END:VCALENDAR